BEGIN:VCALENDAR
PRODID:NingEventWidget-v1
VERSION:2.0
METHOD:PUBLISH
BEGIN:VTIMEZONE
TZID:Pacific/Midway
X-LIC-LOCATION:Pacific/Midway
BEGIN:STANDARD
TZOFFSETFROM:-1100
TZOFFSETTO:-1100
TZNAME:SST
DTSTART:19700101T000000
END:STANDARD
END:VTIMEZONE
BEGIN:VEVENT
UID:5072275:Event:1181094
DTSTAMP:20260425T045512Z
SUMMARY:3rd Annual Car, Truck and Bike Show - Jennings, La
DESCRIPTION:Trophies for the Top 50 car/truck, also specialty awards 
 for, best of show, best truck, best car, best bike, best rat rod, & ve
 teran home choice.\n\nFor more information visit https://www.southeast
 wheelsevents.com/events/3rd-annual-car-truck-and-bike-show-jennings-la
DTSTART;TZID=Pacific/Midway:20191207T090000
DTEND;TZID=Pacific/Midway:20191207T150000
CATEGORIES:car, show, truck, motorcycle, cruise-in
LOCATION:Southwest Louisiana Veterans Home,
WEBSITE:https://www.google.com/maps?q=southwest+louisiana+veterans+hom
 e+jennings&amp;um=1&amp;ie=UTF-8&amp;sa=X&amp;ved=2ahUKEwjav5jgwPzlAhX
 BQY8KHUeQDmoQ_AUoAnoECA8QBA
URL:https://www.google.com/maps?q=southwest+louisiana+veterans+home+je
 nnings&amp;um=1&amp;ie=UTF-8&amp;sa=X&amp;ved=2ahUKEwjav5jgwPzlAhXBQY8
 KHUeQDmoQ_AUoAnoECA8QBA
CONTACT:337-552-9729
ORGANIZER:Lamar Hutchinson
ATTACH;FMTTYPE="image/jpeg":https://storage.ning.com/topology/rest/1.0
 /file/get/3700494213?profile=original
ATTENDEE;ROLE=REQ-PARTICIPANT;PARTSTAT=ACCEPTED;RSVP=TRUE;CN="Anthony 
 Hopkins":https://www.southeastwheelsevents.com/profile/AnthonyHopkins
END:VEVENT
END:VCALENDAR
