BEGIN:VCALENDAR
PRODID:NingEventWidget-v1
VERSION:2.0
METHOD:PUBLISH
BEGIN:VTIMEZONE
TZID:Pacific/Midway
X-LIC-LOCATION:Pacific/Midway
BEGIN:STANDARD
TZOFFSETFROM:-1100
TZOFFSETTO:-1100
TZNAME:SST
DTSTART:19700101T000000
END:STANDARD
END:VTIMEZONE
BEGIN:VEVENT
UID:5072275:Event:1151047
DTSTAMP:20260422T111122Z
SUMMARY:3rd Annual Clarkston Classic Car Show at Culture Fest
DESCRIPTION:\nAre you familiar with Clarkston's Culture Fest? Its a gr
 eat cultural event taking place Saturday, April 27 that features live 
 entertainment, vendors, food, music, kids activities, and a celebratio
 n of the diverse and rich cultures in Clarkston. Once again, Positive 
 Growth Inc. a Clarkston based nonprofit is joining the Festival as an 
 official partner and including our Car Show as an attraction to showca
 se American culture.We invite you and your car club to join us. All ca
 rs are welcome. Awards and prizes will be given to car show registrant
 s. Registration is free, and the event is open to the public.We are as
 king for donations to benefit Positive Growth Boys Home that provides 
 a home to homeless and abused youth males between the ages of 12-21.Jo
 in us! It will be a day to remember!For more info visit:http://clarkst
 oncarshow.eventbrite.comTo register your vehicle visit:https://goo.gl/
 forms/idXA2nhsP0ZiCyZ13To learn more about Clarkston Culture Fest or h
 ow to become a sponsor or vendor visit: www.clarkstoncutlturefest.org\
 n\nFor more information visit https://www.southeastwheelsevents.com/ev
 ents/3rd-annual-clarkston-classic-car-show-at-culture-fest
DTSTART;TZID=Pacific/Midway:20190427T100000
DTEND;TZID=Pacific/Midway:20190427T150000
CATEGORIES:car, show, fundraiser
LOCATION:Hallford Stadium
WEBSITE:http://clarkstoncarshow.eventbrite.com
URL:http://clarkstoncarshow.eventbrite.com
CONTACT:jnguyen@positivegrowthinc.org
ORGANIZER:Positive Growth Inc.
ATTACH;FMTTYPE="image/jpeg":https://storage.ning.com/topology/rest/1.0
 /file/get/1075894642?profile=original
ATTENDEE;ROLE=REQ-PARTICIPANT;PARTSTAT=ACCEPTED;RSVP=TRUE;CN="Jacob Ng
 uyen":https://www.southeastwheelsevents.com/profile/JacobNguyen
END:VEVENT
END:VCALENDAR
