BEGIN:VCALENDAR
PRODID:NingEventWidget-v1
VERSION:2.0
METHOD:PUBLISH
BEGIN:VTIMEZONE
TZID:Pacific/Midway
X-LIC-LOCATION:Pacific/Midway
BEGIN:STANDARD
TZOFFSETFROM:-1100
TZOFFSETTO:-1100
TZNAME:SST
DTSTART:19700101T000000
END:STANDARD
END:VTIMEZONE
BEGIN:VEVENT
UID:5072275:Event:1014906
DTSTAMP:20260419T225619Z
SUMMARY:3rd Annual \"Crusin' Into Christmas\" Car Show -Screven, GA
DESCRIPTION:The \"Crusin' Into Christmas\" Car Show is a fund raiser t
 o help support our four local charities. our charities are CTI, Tabath
 a's Place, our Children with disabilities fund and the Fourth of July 
 fire works Celebration hosted by the City of Screven. we will have ple
 nty of Trophies For Several Classes along with a class for the kids. w
 e will offer booths for both food and other vendors (parts, crafts toy
 s,etc.) with Music and Entertainment. we would like to have all the ca
 rs entered into the show to also enter their cars into the Screven Chr
 istmas Parade following the car show at 4:30 by donating a new unwrapp
 ed toy (no set dollar amount) to help support the Wayne county toy dri
 ve. we will also be holding Raffle. the raffle prize will be posted at
  least two months prior to the car show. so mark your Calender's and p
 lan on joining us for a fun filled day. This years classes will be Ant
 ique cars, classic cars, Import cars,1995-2015, Mussel Car, motorcycle
 s, rat rods, Valve Cover race winner and special awards for Best of sh
 ow American and Import, Peoples Choice, Kids Choice, Ladies Choice, Be
 st Build in Progress, Best Decorated and Santa's Choice. There will be
  ditty bags and Dash Plaques for the first 100 entries. the show locat
 ion is 501 Bill Royal street Screven Ga 31560. hours are 10am - 3pm fo
 r more information you can call me at 912-294-0901or you can email us 
 at crusinintochristmascarshow@gmail.com.   you can Pre register by d
 own loading our mobile app @ www.visibil.mobi/cruisinintochristmas\n\n
 For more information visit https://www.southeastwheelsevents.com/event
 s/3rd-annual-crusin-into-christmas-car-show
DTSTART;TZID=Pacific/Midway:20161210T100000
DTEND;TZID=Pacific/Midway:20161210T150000
CATEGORIES:car, show
LOCATION:Grace Community Center Screven Ga.
WEBSITE:http://www.visibil.mobi/cruisinintochristmas
URL:http://www.visibil.mobi/cruisinintochristmas
CONTACT:912-294-0901
ORGANIZER;CN="Donald Sloan":https://www.southeastwheelsevents.com/prof
 ile/DonaldSloan895
ATTACH;FMTTYPE="image/jpeg":http://storage.ning.com/topology/rest/1.0/
 file/get/967712949?profile=original
ATTENDEE;ROLE=REQ-PARTICIPANT;PARTSTAT=ACCEPTED;RSVP=TRUE;CN="Donald S
 loan":https://www.southeastwheelsevents.com/profile/DonaldSloan895
END:VEVENT
END:VCALENDAR
