BEGIN:VCALENDAR
PRODID:NingEventWidget-v1
VERSION:2.0
METHOD:PUBLISH
BEGIN:VTIMEZONE
TZID:Pacific/Midway
X-LIC-LOCATION:Pacific/Midway
BEGIN:STANDARD
TZOFFSETFROM:-1100
TZOFFSETTO:-1100
TZNAME:SST
DTSTART:19700101T000000
END:STANDARD
END:VTIMEZONE
BEGIN:VEVENT
UID:5072275:Event:1003698
DTSTAMP:20260423T174433Z
SUMMARY:3rd Annual Cruzin on the Suwannee Auto & Truck Show - Dowling 
 Park, FL
DESCRIPTION:Join us for the 3rd Annual Cruzin on the Suwannee Auto & T
 ruck Show at Advent Christian Village on Oct. 1. Part of ACV's annual 
 Autumn Fest, the auto show will be held at the Village Square along wi
 th vendors, food and entertainment. Come enjoy a day along the Suwanne
 e River in north central Florida (half way between Jacksonville and Ta
 llahassee). Prize drawings will be held for all. Those whose registrat
 ion forms are postmarked on or before Sept. 5 will receive a meal tick
 et, a T-shirt, a dash plaque, and be entered into a pre-registrant-onl
 y prize drawing. Registration is only $25 (free for spectators). Show 
 classes will be determined by the cars and trucks that are pre-registe
 red. Visit www.facebook.com/ACVAUTOSHOW for more information and to do
 wnload a registration form.\n\nFor more information visit https://www.
 southeastwheelsevents.com/events/3rd-annual-cruzin-on-the-suwannee-aut
 o-truck-show-dowling-park-fl
DTSTART;TZID=Pacific/Midway:20161001T080000
DTEND;TZID=Pacific/Midway:20161001T140000
CATEGORIES:car, show
LOCATION:Advent Christian Village
WEBSITE:https://www.google.com/maps/place/11057+Dowling+Park+Dr,+Live+
 Oak,+FL+32064/@30.2479732,-83.2429366,17z/data=!3m1!4b1!4m5!3m4!1s0x88
 eec75b26678e0d:0x8ad1612fc9013873!8m2!3d30.2479686!4d-83.2407479
URL:https://www.google.com/maps/place/11057+Dowling+Park+Dr,+Live+Oak,
 +FL+32064/@30.2479732,-83.2429366,17z/data=!3m1!4b1!4m5!3m4!1s0x88eec7
 5b26678e0d:0x8ad1612fc9013873!8m2!3d30.2479686!4d-83.2407479
CONTACT:(386) 658-5291
ORGANIZER;CN="Advent Christian Village":https://www.southeastwheelseve
 nts.com/profile/AdventChristianVillage
ATTACH;FMTTYPE="image/jpeg":http://storage.ning.com/topology/rest/1.0/
 file/get/967712937?profile=original
ATTENDEE;ROLE=REQ-PARTICIPANT;PARTSTAT=ACCEPTED;RSVP=TRUE;CN="Advent C
 hristian Village":https://www.southeastwheelsevents.com/profile/Advent
 ChristianVillage
END:VEVENT
END:VCALENDAR
