BEGIN:VCALENDAR
PRODID:NingEventWidget-v1
VERSION:2.0
METHOD:PUBLISH
BEGIN:VTIMEZONE
TZID:Pacific/Midway
X-LIC-LOCATION:Pacific/Midway
BEGIN:STANDARD
TZOFFSETFROM:-1100
TZOFFSETTO:-1100
TZNAME:SST
DTSTART:19700101T000000
END:STANDARD
END:VTIMEZONE
BEGIN:VEVENT
UID:5072275:Event:967790
DTSTAMP:20260420T183312Z
SUMMARY:3rd Annual Dauphin Island Sunset Cruise Car Show -Dauphin Isla
 nd, AL
DESCRIPTION:Car Show, Swap Meet and Car Corral... Poker Run available 
 to participants, Raffle, 50/50 drawing, live band and so much more!\nE
 ntry fee is $25.00/multiple cars are $20.00 day of event. Pre-registra
 tion fee is $20.00/$15.00 by May 22, 2016\n\nFor more information visi
 t https://www.southeastwheelsevents.com/events/3rd-annual-dauphin-isla
 nd-sunset-cruise-car-show
DTSTART;TZID=Pacific/Midway:20160604T090000
DTEND;TZID=Pacific/Midway:20160604T160000
CATEGORIES:car, show
LOCATION:Dauphin Island Green Park
WEBSITE:http://www.townofdauphinisland.org
URL:http://www.townofdauphinisland.org
CONTACT:251-861-5525 ext. 222
ORGANIZER:Town of Dauphin Island
ATTACH;FMTTYPE="image/jpeg":http://storage.ning.com/topology/rest/1.0/
 file/get/967701117?profile=original
ATTENDEE;ROLE=REQ-PARTICIPANT;PARTSTAT=ACCEPTED;RSVP=TRUE;CN="Chuck Aa
 ron":https://www.southeastwheelsevents.com/profile/ChuckAaron
ATTENDEE;ROLE=REQ-PARTICIPANT;PARTSTAT=ACCEPTED;RSVP=TRUE;CN="Shirley 
 Olson":https://www.southeastwheelsevents.com/profile/ShirleyOlson682
END:VEVENT
END:VCALENDAR
