BEGIN:VCALENDAR
PRODID:NingEventWidget-v1
VERSION:2.0
METHOD:PUBLISH
BEGIN:VTIMEZONE
TZID:Pacific/Midway
X-LIC-LOCATION:Pacific/Midway
BEGIN:STANDARD
TZOFFSETFROM:-1100
TZOFFSETTO:-1100
TZNAME:SST
DTSTART:19700101T000000
END:STANDARD
END:VTIMEZONE
BEGIN:VEVENT
UID:5072275:Event:790535
DTSTAMP:20260423T171336Z
SUMMARY:Annual Firefly Cruise -Lexington, GA
DESCRIPTION:Cruise In open to all cars, trucks, motorcycles,  \nand 
 tractors. Food, Door Prizes,50-25-25 drawings\nTop 10 Plaques and 1 Be
 st of Chamber Plaque\n$10.00 registration fee   \n\nFor more inform
 ation visit https://www.southeastwheelsevents.com/events/3rd-annual-fi
 refly-cruise-crawford-ga
DTSTART;TZID=Pacific/Midway:20160611T170000
DTEND;TZID=Pacific/Midway:20160611T203000
CATEGORIES:cruise, in, show
LOCATION:Courthouse
WEBSITE:
URL:
CONTACT:706 743 3048
ORGANIZER:Jeff Welch and Tommy Landrum
ATTACH;FMTTYPE="image/jpeg":http://storage.ning.com/topology/rest/1.0/
 file/get/967662086?profile=original
ATTENDEE;ROLE=REQ-PARTICIPANT;PARTSTAT=ACCEPTED;RSVP=TRUE;CN="Tommy La
 ndrum":https://www.southeastwheelsevents.com/profile/TommyLandrum
END:VEVENT
END:VCALENDAR
