BEGIN:VCALENDAR
PRODID:NingEventWidget-v1
VERSION:2.0
METHOD:PUBLISH
BEGIN:VTIMEZONE
TZID:Pacific/Midway
X-LIC-LOCATION:Pacific/Midway
BEGIN:STANDARD
TZOFFSETFROM:-1100
TZOFFSETTO:-1100
TZNAME:SST
DTSTART:19700101T000000
END:STANDARD
END:VTIMEZONE
BEGIN:VEVENT
UID:5072275:Event:1101696
DTSTAMP:20260420T061028Z
SUMMARY:3rd Annual Love Thy Neighbor Car Show - Grayson, Ga
DESCRIPTION:3rd Annual Love Thy Neighbor Car Show at Grayson City Park
 .\n\nFor more information visit https://www.southeastwheelsevents.com/
 events/3rd-annual-love-thy-neighbor-car-show-grayson-ga
DTSTART;TZID=Pacific/Midway:20180922T110000
DTEND;TZID=Pacific/Midway:20180922T150000
CATEGORIES:car, show, cruise, in
LOCATION:Grayson City Park,
WEBSITE:https://www.google.co.in/maps/place/Grayson+Park/@33.9004488,-
 83.9507824,14z/data=!4m8!1m2!2m1!1sGrayson+City+Park,+475+Grayson+Park
 way,!3m4!1s0x88f5b8e9f92d7c37:0xf55f7ccedd749ea7!8m2!3d33.8936504!4d-8
 3.958756
URL:https://www.google.co.in/maps/place/Grayson+Park/@33.9004488,-83.9
 507824,14z/data=!4m8!1m2!2m1!1sGrayson+City+Park,+475+Grayson+Parkway,
 !3m4!1s0x88f5b8e9f92d7c37:0xf55f7ccedd749ea7!8m2!3d33.8936504!4d-83.95
 8756
CONTACT:770-757-7466, 404-680-9500, 770-789-0799
ORGANIZER:Sherri, Laurie, Coral
ATTACH;FMTTYPE="image/jpeg":http://storage.ning.com/topology/rest/1.0/
 file/get/967795114?profile=original
ATTENDEE;ROLE=REQ-PARTICIPANT;PARTSTAT=ACCEPTED;RSVP=TRUE;CN="Anthony 
 Hopkins":https://www.southeastwheelsevents.com/profile/AnthonyHopkins
END:VEVENT
END:VCALENDAR
