BEGIN:VCALENDAR
PRODID:NingEventWidget-v1
VERSION:2.0
METHOD:PUBLISH
BEGIN:VTIMEZONE
TZID:Pacific/Midway
X-LIC-LOCATION:Pacific/Midway
BEGIN:STANDARD
TZOFFSETFROM:-1100
TZOFFSETTO:-1100
TZNAME:SST
DTSTART:19700101T000000
END:STANDARD
END:VTIMEZONE
BEGIN:VEVENT
UID:5072275:Event:376419
DTSTAMP:20260420T143912Z
SUMMARY:Annual Mustang & Ford Show -Breman, GA
DESCRIPTION:Annual Mustang & Ford Show Pioneer Ford\n\nFor more inform
 ation visit https://www.southeastwheelsevents.com/events/3rd-annual-mu
 stang-ford-show-breman-ga
DTSTART;TZID=Pacific/Midway:20211003T090000
DTEND;TZID=Pacific/Midway:20211003T160000
CATEGORIES:car-show
LOCATION:Pioneer Ford
WEBSITE:
URL:
CONTACT:770-537-3673
ORGANIZER:Pioneer Ford
ATTACH;FMTTYPE="image/jpeg":https://storage.ning.com/topology/rest/1.0
 /file/get/7961865288?profile=original
ATTENDEE;ROLE=REQ-PARTICIPANT;PARTSTAT=ACCEPTED;RSVP=TRUE;CN="Jack Tho
 mas":https://www.southeastwheelsevents.com/profile/JackThomas
ATTENDEE;ROLE=REQ-PARTICIPANT;PARTSTAT=ACCEPTED;RSVP=TRUE;CN=Lance:htt
 ps://www.southeastwheelsevents.com/profile/Lance
END:VEVENT
END:VCALENDAR
