BEGIN:VCALENDAR
PRODID:NingEventWidget-v1
VERSION:2.0
METHOD:PUBLISH
BEGIN:VTIMEZONE
TZID:Pacific/Midway
X-LIC-LOCATION:Pacific/Midway
BEGIN:STANDARD
TZOFFSETFROM:-1100
TZOFFSETTO:-1100
TZNAME:SST
DTSTART:19700101T000000
END:STANDARD
END:VTIMEZONE
BEGIN:VEVENT
UID:5072275:Event:1103186
DTSTAMP:20260421T035212Z
SUMMARY:3rd Annual Pensacola North Rotary Charity Classic Car Show - P
 ensacola, Fl
DESCRIPTION:3rd Annual Pensacola North Rotary Charity Classic Car Show
  at Cokesbuly United Methodist Church, 5725 North Ninth Avenue.\n\nFor
  more information visit https://www.southeastwheelsevents.com/events/3
 rd-annual-pensacola-north-rotary-charity-classic-car-show
DTSTART;TZID=Pacific/Midway:20181027T090000
DTEND;TZID=Pacific/Midway:20181027T140000
CATEGORIES:car, show, cruise, in
LOCATION:Cokesbuly United Methodist Church,
WEBSITE:https://www.google.co.in/maps/place/Cokesbury+Church/@30.48208
 ,-87.2070492,17z/data=!3m1!4b1!4m5!3m4!1s0x8890c0169afcaa25:0xe2cfee9b
 ec788afd!8m2!3d30.48208!4d-87.2048605
URL:https://www.google.co.in/maps/place/Cokesbury+Church/@30.48208,-87
 .2070492,17z/data=!3m1!4b1!4m5!3m4!1s0x8890c0169afcaa25:0xe2cfee9bec78
 8afd!8m2!3d30.48208!4d-87.2048605
CONTACT:(850) 324-9057
ORGANIZER:Michael Higgins
ATTACH;FMTTYPE="image/jpeg":http://storage.ning.com/topology/rest/1.0/
 file/get/967801301?profile=original
ATTENDEE;ROLE=REQ-PARTICIPANT;PARTSTAT=ACCEPTED;RSVP=TRUE;CN="Anthony 
 Hopkins":https://www.southeastwheelsevents.com/profile/AnthonyHopkins
END:VEVENT
END:VCALENDAR
