BEGIN:VCALENDAR
PRODID:NingEventWidget-v1
VERSION:2.0
METHOD:PUBLISH
BEGIN:VTIMEZONE
TZID:Pacific/Midway
X-LIC-LOCATION:Pacific/Midway
BEGIN:STANDARD
TZOFFSETFROM:-1100
TZOFFSETTO:-1100
TZNAME:SST
DTSTART:19700101T000000
END:STANDARD
END:VTIMEZONE
BEGIN:VEVENT
UID:5072275:Event:1188710
DTSTAMP:20260423T001419Z
SUMMARY:3rd Annual Salute To Veterans Car Show -Blairsville, GA
DESCRIPTION:Saturday November 7th 2020 11 am - 4 pm Fund raiser for ne
 edy Veterans and Veterans Organizations\n\nFor more information visit 
 https://www.southeastwheelsevents.com/events/3rd-annual-salute-to-vete
 rans-car-show
DTSTART;TZID=Pacific/Midway:20201107T110000
DTEND;TZID=Pacific/Midway:20201107T160000
CATEGORIES:benefit, car, show
LOCATION:Union County Farmers Market
WEBSITE:
URL:
CONTACT:Dick Couture 863-414-5276
ORGANIZER:Blairsville Crusiers Car Club
ATTACH;FMTTYPE="image/jpeg":https://storage.ning.com/topology/rest/1.0
 /file/get/3868404866?profile=original
ATTENDEE;ROLE=REQ-PARTICIPANT;PARTSTAT=TENTATIVE;RSVP=TRUE;CN="Jeffrey
  Rutherford":https://www.southeastwheelsevents.com/profile/JeffreyRuth
 erford866
END:VEVENT
END:VCALENDAR
