BEGIN:VCALENDAR
PRODID:NingEventWidget-v1
VERSION:2.0
METHOD:PUBLISH
BEGIN:VTIMEZONE
TZID:Pacific/Midway
X-LIC-LOCATION:Pacific/Midway
BEGIN:STANDARD
TZOFFSETFROM:-1100
TZOFFSETTO:-1100
TZNAME:SST
DTSTART:19700101T000000
END:STANDARD
END:VTIMEZONE
BEGIN:VEVENT
UID:5072275:Event:637846
DTSTAMP:20260424T092345Z
SUMMARY:3rd Annual Stars and Strikes Cancer Awareness Car Show -Dacula
 , GA
DESCRIPTION:Top 5 (Peoples choice)  Top Engine  Top Paint  Best of Sho
 w (Stars and Strikes choice)  Now the fun stuff:  -\"Slow drag\"Race -
  Line em up, put car in gear and let em roll (no gas/brake) last acros
 s line wins. eliminations  -\"Powerwheels drag race\" For the kids. \"
 Bring em out and line em up.\"  -\"Burnout competition\" With cash pri
 ze ($5 per burnout)  Raffles and door prizes also.  $20 to enter\n\nFo
 r more information visit https://www.southeastwheelsevents.com/events/
 3rd-annual-stars-and-strikes-cancer-awareness-car-show
DTSTART;TZID=Pacific/Midway:20130421T120000
DTEND;TZID=Pacific/Midway:20130421T160000
CATEGORIES:car, show
LOCATION:Stars and Strikes Family Fun Bowling and family fun center
WEBSITE:
URL:
CONTACT:(678) 965-5707
ORGANIZER:Stars and Strikes Dacula
ATTACH;FMTTYPE="image/jpeg":http://storage.ning.com/topology/rest/1.0/
 file/get/967637732?profile=original
ATTENDEE;ROLE=REQ-PARTICIPANT;PARTSTAT=ACCEPTED;RSVP=TRUE;CN="Lenny   
   Major":https://www.southeastwheelsevents.com/profile/LennyMajor
ATTENDEE;ROLE=REQ-PARTICIPANT;PARTSTAT=ACCEPTED;RSVP=TRUE;CN="Lebaron 
 Grove":https://www.southeastwheelsevents.com/profile/LebaronGrove
ATTENDEE;ROLE=REQ-PARTICIPANT;PARTSTAT=ACCEPTED;RSVP=TRUE;CN="tony ken
 t":https://www.southeastwheelsevents.com/profile/tonykent
END:VEVENT
END:VCALENDAR
