BEGIN:VCALENDAR
PRODID:NingEventWidget-v1
VERSION:2.0
METHOD:PUBLISH
BEGIN:VTIMEZONE
TZID:Pacific/Midway
X-LIC-LOCATION:Pacific/Midway
BEGIN:STANDARD
TZOFFSETFROM:-1100
TZOFFSETTO:-1100
TZNAME:SST
DTSTART:19700101T000000
END:STANDARD
END:VTIMEZONE
BEGIN:VEVENT
UID:5072275:Event:885555
DTSTAMP:20260424T152222Z
SUMMARY:3rd Thursday Bike Night -Cartersville, GA
DESCRIPTION:The 3rd Thursday Bike Night will be held at Harley-Davids
 on of Cartersville, Georgia on September 17th, 2015.  Location: -Harle
 y-Davidson of Cartersville, Georgia (2281 Highway 411 NE, Cartersville
 , GA 30121)  Check back on the website listed below for more details a
 s they become available.  Please Contact For More Information: -(888) 
 965-6342\n\nFor more information visit https://www.southeastwheelseven
 ts.com/events/3rd-thursday-bike-night-cartersville-ga-4
DTSTART;TZID=Pacific/Midway:20150917T173000
DTEND;TZID=Pacific/Midway:20150917T220000
CATEGORIES:cycle, ride, bike, night
LOCATION:Harley-Davidson of Cartersville,
WEBSITE:http://www.hdcartersville.com/
URL:http://www.hdcartersville.com/
CONTACT:(770) 547-6871
ORGANIZER:Harley-Davidson of Cartersville
ATTACH;FMTTYPE="image/jpeg":http://storage.ning.com/topology/rest/1.0/
 file/get/967627385?profile=original
ATTENDEE;ROLE=REQ-PARTICIPANT;PARTSTAT=ACCEPTED;RSVP=TRUE;CN="Chuck Aa
 ron":https://www.southeastwheelsevents.com/profile/ChuckAaron
END:VEVENT
END:VCALENDAR
