BEGIN:VCALENDAR
PRODID:NingEventWidget-v1
VERSION:2.0
METHOD:PUBLISH
BEGIN:VTIMEZONE
TZID:Pacific/Midway
X-LIC-LOCATION:Pacific/Midway
BEGIN:STANDARD
TZOFFSETFROM:-1100
TZOFFSETTO:-1100
TZNAME:SST
DTSTART:19700101T000000
END:STANDARD
END:VTIMEZONE
BEGIN:VEVENT
UID:5072275:Event:1024588
DTSTAMP:20260423T091451Z
SUMMARY:3rd Thursday Cruise-In
DESCRIPTION:3rd Thursday Cruise-In will be held at JL's Open Pit Bar-B
 -Q, 5001 Brookhaven Rd, Macon, Georgia. End time may change.\n\nFor mo
 re information visit https://www.southeastwheelsevents.com/events/3rd-
 thursday-cruise-in
DTSTART;TZID=Pacific/Midway:20161215T170000
DTEND;TZID=Pacific/Midway:20161215T210000
CATEGORIES:cars, "clubs/shows/cruises"
LOCATION:JL's Open Pit Bar-B-Q
WEBSITE:http://clocg.com/index.html
URL:http://clocg.com/index.html
CONTACT:
ORGANIZER:Corvettes Limited of Central Georgia
ATTACH;FMTTYPE="image/jpeg":
ATTENDEE;ROLE=REQ-PARTICIPANT;PARTSTAT=ACCEPTED;RSVP=TRUE;CN="Chris go
 sney":https://www.southeastwheelsevents.com/profile/Chrisgosney
END:VEVENT
END:VCALENDAR
