BEGIN:VCALENDAR
PRODID:NingEventWidget-v1
VERSION:2.0
METHOD:PUBLISH
BEGIN:VTIMEZONE
TZID:Pacific/Midway
X-LIC-LOCATION:Pacific/Midway
BEGIN:STANDARD
TZOFFSETFROM:-1100
TZOFFSETTO:-1100
TZNAME:SST
DTSTART:19700101T000000
END:STANDARD
END:VTIMEZONE
BEGIN:VEVENT
UID:5072275:Event:1010252
DTSTAMP:20260423T145540Z
SUMMARY:4 Island Hopping Campaign -North Charleston, SC
DESCRIPTION:\nCVMA 34-4 Island Hopping Campaign\n\n\n\n4707 Dorchester
  Rd\n   Click to Visit Event Website\n\n\nNorth Charleston, South Caro
 lina\n 29405\n\nEvent Starts: 10/01/2016 Event Ends: 10/01/2016\n\n\
 n\n\n Join CVMA Chapter 34-4, Lowcountry Pirates as we Island Hop to r
 aise money for local Charleston Homeless Veterans.  October 1st, 2016 
 Registration - 10:30 a.m. at Lowcountry Harley Davidson 4707 Dorcheste
 r Rd, North Charleston, SC 29405  Kickstands up - 11:00 a.m. Last Bike
  In - 4:00 p.m. Final stop - Windjammers, Isle of Palms  Registration 
 is $15 per rider, $5 per passenger Food and drink specials will be ava
 ilable at the final stop.  Become a Sponsor. Contact us on Facebook @L
 owcountryCVMA  CVMA 34-4 is a resigtered 501(c)(19) Non-profit Veteran
  Organization \n\n\n\n\n\n\nFor more information visit https://www.so
 utheastwheelsevents.com/events/4-island-hopping-campaign-north-charles
 ton-sc
DTSTART;TZID=Pacific/Midway:20161001T103000
DTEND;TZID=Pacific/Midway:20161001T160000
CATEGORIES:motorcycle, show, festival, cruise, ride, fundraiser
LOCATION:Lowcountry Harley Davidson
WEBSITE:https://www.facebook.com/events/171177046635668/
URL:https://www.facebook.com/events/171177046635668/
CONTACT:Contact us on Facebook @LowcountryCVMA
ORGANIZER:Lowcountry Harley Davidson
ATTACH;FMTTYPE="image/jpeg":http://storage.ning.com/topology/rest/1.0/
 file/get/967714567?profile=original
ATTENDEE;ROLE=REQ-PARTICIPANT;PARTSTAT=ACCEPTED;RSVP=TRUE;CN="Chuck Aa
 ron":https://www.southeastwheelsevents.com/profile/ChuckAaron
END:VEVENT
END:VCALENDAR
