BEGIN:VCALENDAR
PRODID:NingEventWidget-v1
VERSION:2.0
METHOD:PUBLISH
BEGIN:VTIMEZONE
TZID:Pacific/Midway
X-LIC-LOCATION:Pacific/Midway
BEGIN:STANDARD
TZOFFSETFROM:-1100
TZOFFSETTO:-1100
TZNAME:SST
DTSTART:19700101T000000
END:STANDARD
END:VTIMEZONE
BEGIN:VEVENT
UID:5072275:Event:1103169
DTSTAMP:20260421T035212Z
SUMMARY:40th Annual Car Show and Flea Market - Lawrenceburg, Tn
DESCRIPTION:40th Annual Car Show and Flea Market at Rotary Park.\n\nFo
 r more information visit https://www.southeastwheelsevents.com/events/
 40th-annual-car-show-and-flea-market-lawrenceburg-tn
DTSTART;TZID=Pacific/Midway:20181027T080000
DTEND;TZID=Pacific/Midway:20181027T150000
CATEGORIES:car, show, cruise, in
LOCATION:Rotary Park,
WEBSITE:https://www.google.co.in/maps/place/Rotary+Park+Dr,+Tennessee+
 37043,+USA/@36.5027679,-87.2749022,17z/data=!3m1!4b1!4m5!3m4!1s0x8864d
 e9083e9f101:0x5de8c755b65bec16!8m2!3d36.5027679!4d-87.2727135
URL:https://www.google.co.in/maps/place/Rotary+Park+Dr,+Tennessee+3704
 3,+USA/@36.5027679,-87.2749022,17z/data=!3m1!4b1!4m5!3m4!1s0x8864de908
 3e9f101:0x5de8c755b65bec16!8m2!3d36.5027679!4d-87.2727135
CONTACT:(931) 964-3658, (931) 964-0009, (931) 762-7737
ORGANIZER:J W. Long, Larry Clayton, Lam Hubbard,
ATTACH;FMTTYPE="image/jpeg":http://storage.ning.com/topology/rest/1.0/
 file/get/967800934?profile=original
ATTENDEE;ROLE=REQ-PARTICIPANT;PARTSTAT=ACCEPTED;RSVP=TRUE;CN="Anthony 
 Hopkins":https://www.southeastwheelsevents.com/profile/AnthonyHopkins
END:VEVENT
END:VCALENDAR
