BEGIN:VCALENDAR
PRODID:NingEventWidget-v1
VERSION:2.0
METHOD:PUBLISH
BEGIN:VTIMEZONE
TZID:Pacific/Midway
X-LIC-LOCATION:Pacific/Midway
BEGIN:STANDARD
TZOFFSETFROM:-1100
TZOFFSETTO:-1100
TZNAME:SST
DTSTART:19700101T000000
END:STANDARD
END:VTIMEZONE
BEGIN:VEVENT
UID:5072275:Event:1085527
DTSTAMP:20260424T063918Z
SUMMARY:42th Annual Silver Doller Rod Run and Swap Meet- SeviervilleTN
DESCRIPTION:42th Annual Silver Dollar Rod Run and Swap Meet\n\nFor mor
 e information visit https://www.southeastwheelsevents.com/events/42th-
 annual-silver-doller-rod-run-and-swap-meet-seviervilletn
DTSTART;TZID=Pacific/Midway:20180601T000000
DTEND;TZID=Pacific/Midway:20180602T235900
CATEGORIES:rod, run, and, swap, meet
LOCATION:The Oak Tree Lodge
WEBSITE:http://volunteerstreetrod.com
URL:http://volunteerstreetrod.com
CONTACT:(865)654-4272
ORGANIZER:Lonnie Fraker
ATTACH;FMTTYPE="image/jpeg":http://storage.ning.com/topology/rest/1.0/
 file/get/967772632?profile=original
ATTENDEE;ROLE=REQ-PARTICIPANT;PARTSTAT=ACCEPTED;RSVP=TRUE;CN="Anthony 
 Hopkins":https://www.southeastwheelsevents.com/profile/AnthonyHopkins
END:VEVENT
END:VCALENDAR
