BEGIN:VCALENDAR
PRODID:NingEventWidget-v1
VERSION:2.0
METHOD:PUBLISH
BEGIN:VTIMEZONE
TZID:Pacific/Midway
X-LIC-LOCATION:Pacific/Midway
BEGIN:STANDARD
TZOFFSETFROM:-1100
TZOFFSETTO:-1100
TZNAME:SST
DTSTART:19700101T000000
END:STANDARD
END:VTIMEZONE
BEGIN:VEVENT
UID:5072275:Event:974625
DTSTAMP:20260423T162425Z
SUMMARY:43rd Annual Fall Regional Shelby/Mustang & Ford Meet, Maggie V
 alley, NC
DESCRIPTION:Rain date is Sunday October 2.  Registration Friday Sept 
 30 1-5PM and Saturday Oct 1 8:30-12:00, entry fee $20.  Open to all F
 ord bodied/Ford powered vehicles with trophies awarded to the top 3 i
 n 25+ classes based upon popular vote. \n\nFor more information vis
 it https://www.southeastwheelsevents.com/events/43rd-annual-fall-regio
 nal-shelby-mustang-ford-meet-maggie-valley
DTSTART;TZID=Pacific/Midway:20161001T083000
DTEND;TZID=Pacific/Midway:20161001T160000
CATEGORIES:car, show
LOCATION:Maggie Valley Festival Grounds
WEBSITE:http://www.negeorgiamustangclub.org
URL:http://www.negeorgiamustangclub.org
CONTACT:678-371-5799
ORGANIZER;CN="Rick Hayslip":https://www.southeastwheelsevents.com/prof
 ile/RickHayslip
ATTACH;FMTTYPE="image/jpeg":
ATTENDEE;ROLE=REQ-PARTICIPANT;PARTSTAT=ACCEPTED;RSVP=TRUE;CN="Chuck Aa
 ron":https://www.southeastwheelsevents.com/profile/ChuckAaron
ATTENDEE;ROLE=REQ-PARTICIPANT;PARTSTAT=ACCEPTED;RSVP=TRUE;CN="Rick Hay
 slip":https://www.southeastwheelsevents.com/profile/RickHayslip
END:VEVENT
END:VCALENDAR
