BEGIN:VCALENDAR
PRODID:NingEventWidget-v1
VERSION:2.0
METHOD:PUBLISH
BEGIN:VTIMEZONE
TZID:Pacific/Midway
X-LIC-LOCATION:Pacific/Midway
BEGIN:STANDARD
TZOFFSETFROM:-1100
TZOFFSETTO:-1100
TZNAME:SST
DTSTART:19700101T000000
END:STANDARD
END:VTIMEZONE
BEGIN:VEVENT
UID:5072275:Event:1099487
DTSTAMP:20260420T062228Z
SUMMARY:44th Annual Mule Day Car and Bike Show - Winfield, Al
DESCRIPTION:44th Annual Mule Day Car and  Bike Show at Winfield Middl
 e School on Apple Avenue.\n\nFor more information visit https://www.so
 utheastwheelsevents.com/events/44th-annual-mule-day-car-and-bike-show-
 winfield-al
DTSTART;TZID=Pacific/Midway:20180922T080000
DTEND;TZID=Pacific/Midway:20180922T130000
CATEGORIES:car, show, cruise, in
LOCATION:Winfield Middle School,
WEBSITE:https://www.google.com/maps/place/Winfield+City+Middle+School/
 @33.9340581,-87.8147882,17z/data=!3m1!4b1!4m5!3m4!1s0x8887c88b4a47fe3b
 :0x73dcb9622ff5e73f!8m2!3d33.9340537!4d-87.8125995
URL:https://www.google.com/maps/place/Winfield+City+Middle+School/@33.
 9340581,-87.8147882,17z/data=!3m1!4b1!4m5!3m4!1s0x8887c88b4a47fe3b:0x7
 3dcb9622ff5e73f!8m2!3d33.9340537!4d-87.8125995
CONTACT:(205) 412-1655
ORGANIZER:Whit
ATTACH;FMTTYPE="image/jpeg":http://storage.ning.com/topology/rest/1.0/
 file/get/967798692?profile=original
ATTENDEE;ROLE=REQ-PARTICIPANT;PARTSTAT=ACCEPTED;RSVP=TRUE;CN="Anthony 
 Hopkins":https://www.southeastwheelsevents.com/profile/AnthonyHopkins
END:VEVENT
END:VCALENDAR
