BEGIN:VCALENDAR
PRODID:NingEventWidget-v1
VERSION:2.0
METHOD:PUBLISH
BEGIN:VTIMEZONE
TZID:Pacific/Midway
X-LIC-LOCATION:Pacific/Midway
BEGIN:STANDARD
TZOFFSETFROM:-1100
TZOFFSETTO:-1100
TZNAME:SST
DTSTART:19700101T000000
END:STANDARD
END:VTIMEZONE
BEGIN:VEVENT
UID:5072275:Event:723789
DTSTAMP:20260419T053037Z
SUMMARY:44th Annual O'Reilly Auto Parts World of Wheels -New Orleans, 
 LA
DESCRIPTION:The World of Wheels  will be featuring hundreds of Hot Ro
 ds, Custom Cars, Trucks, Cycles and Traditional Rods. This event is su
 re to be appealing to everyone in the family.\n\nFor more information 
 visit https://www.southeastwheelsevents.com/events/44th-annual-o-reill
 y-auto-parts-world-of-wheels
DTSTART;TZID=Pacific/Midway:20140207T000000
DTEND;TZID=Pacific/Midway:20140209T235900
CATEGORIES:hot, rod, car, show
LOCATION:Mercedes-Benz Superdome
WEBSITE:http://www.autorama.com
URL:http://www.autorama.com
CONTACT:2483731700
ORGANIZER:Championship Auto Shows Inc.
ATTACH;FMTTYPE="image/jpeg":
ATTENDEE;ROLE=REQ-PARTICIPANT;PARTSTAT=ACCEPTED;RSVP=TRUE;CN="Sue Szwe
 jk":https://www.southeastwheelsevents.com/profile/SueSzwejk
END:VEVENT
END:VCALENDAR
