BEGIN:VCALENDAR
PRODID:NingEventWidget-v1
VERSION:2.0
METHOD:PUBLISH
BEGIN:VTIMEZONE
TZID:Pacific/Midway
X-LIC-LOCATION:Pacific/Midway
BEGIN:STANDARD
TZOFFSETFROM:-1100
TZOFFSETTO:-1100
TZNAME:SST
DTSTART:19700101T000000
END:STANDARD
END:VTIMEZONE
BEGIN:VEVENT
UID:5072275:Event:1100706
DTSTAMP:20260422T181552Z
SUMMARY:45th Annual Studebaker and Orphan Car Show - Lynchburg, Tn
DESCRIPTION:45th Annual Studebaker and Orphan Car Show at Wiseman Park
 .\n\nFor more information visit https://www.southeastwheelsevents.com/
 events/45th-annual-studebaker-and-orphan-car-show-lynchburg-tn
DTSTART;TZID=Pacific/Midway:20181006T080000
DTEND;TZID=Pacific/Midway:20181006T150000
CATEGORIES:car, show, cruise, in
LOCATION:Wiseman Park,
WEBSITE:https://www.google.co.in/maps/place/Wiseman+Park/@35.2799942,-
 86.3782883,17z/data=!3m1!4b1!4m5!3m4!1s0x8863d10867a37ea7:0x72629e8ab9
 24c692!8m2!3d35.2799942!4d-86.3760996
URL:https://www.google.co.in/maps/place/Wiseman+Park/@35.2799942,-86.3
 782883,17z/data=!3m1!4b1!4m5!3m4!1s0x8863d10867a37ea7:0x72629e8ab924c6
 92!8m2!3d35.2799942!4d-86.3760996
CONTACT:(931) 454-2408
ORGANIZER:Gene Cuthbert
ATTACH;FMTTYPE="image/jpeg":http://storage.ning.com/topology/rest/1.0/
 file/get/967799614?profile=original
ATTENDEE;ROLE=REQ-PARTICIPANT;PARTSTAT=ACCEPTED;RSVP=TRUE;CN="Bonnie J
 ean Nash":https://www.southeastwheelsevents.com/profile/BonnieJeanNash
ATTENDEE;ROLE=REQ-PARTICIPANT;PARTSTAT=ACCEPTED;RSVP=TRUE;CN="Anthony 
 Hopkins":https://www.southeastwheelsevents.com/profile/AnthonyHopkins
END:VEVENT
END:VCALENDAR
