BEGIN:VCALENDAR
PRODID:NingEventWidget-v1
VERSION:2.0
METHOD:PUBLISH
BEGIN:VTIMEZONE
TZID:Pacific/Midway
X-LIC-LOCATION:Pacific/Midway
BEGIN:STANDARD
TZOFFSETFROM:-1100
TZOFFSETTO:-1100
TZNAME:SST
DTSTART:19700101T000000
END:STANDARD
END:VTIMEZONE
BEGIN:VEVENT
UID:5072275:Event:1027695
DTSTAMP:20260425T144035Z
SUMMARY:46th Annual Auto Parts World of Wheels - Day 1 Birmingham, AL
DESCRIPTION:46th Annual Auto Parts World of Wheels will be held at Bir
 mingham–Jefferson Convention Complex, Birmingham, AL. The event show
 cases products like wide range of cars & automotive based products and
  services and many more related products and services etc. in the Auto
 motive industry. The show utilizes over 220,000 square feet of exhibit
 ion space to put on one of the best and most beautiful custom auto sho
 ws in the country. Admission fees: Adults $18 ($15 at all O’Reilly A
 uto Parts stores). Children age 6 - 11 $5. Children age 5 and under ar
 e free. Show starts at 3.00pm and ends at 10.00pm.\n\nFor more informa
 tion visit https://www.southeastwheelsevents.com/events/46th-annual-au
 to-parts-world-of-wheels-day-1-of-3
DTSTART;TZID=Pacific/Midway:20170210T150000
DTEND;TZID=Pacific/Midway:20170210T220000
CATEGORIES:cars, "clubs/shows/cruises", "parts/materials/supplies"
LOCATION:Birmingham–Jefferson Convention Complex
WEBSITE:http://worldofwheels.net/birmingham-al/
URL:http://worldofwheels.net/birmingham-al/
CONTACT:Adam McLean 205-655-4950
ORGANIZER:World of Wheels
ATTACH;FMTTYPE="image/jpeg":http://storage.ning.com/topology/rest/1.0/
 file/get/967722700?profile=original
ATTENDEE;ROLE=REQ-PARTICIPANT;PARTSTAT=ACCEPTED;RSVP=TRUE;CN="Chuck Aa
 ron":https://www.southeastwheelsevents.com/profile/ChuckAaron886
ATTENDEE;ROLE=REQ-PARTICIPANT;PARTSTAT=ACCEPTED;RSVP=TRUE;CN="Chris go
 sney":https://www.southeastwheelsevents.com/profile/Chrisgosney
END:VEVENT
END:VCALENDAR
