BEGIN:VCALENDAR
PRODID:NingEventWidget-v1
VERSION:2.0
METHOD:PUBLISH
BEGIN:VTIMEZONE
TZID:Pacific/Midway
X-LIC-LOCATION:Pacific/Midway
BEGIN:STANDARD
TZOFFSETFROM:-1100
TZOFFSETTO:-1100
TZNAME:SST
DTSTART:19700101T000000
END:STANDARD
END:VTIMEZONE
BEGIN:VEVENT
UID:5072275:Event:1141720
DTSTAMP:20260422T084100Z
SUMMARY:46th Annual Shelby Mustang &amp; Ford Maggie Valley Car Show
DESCRIPTION:Early Registration is now open at the following link: NEG
 MC Maggie Valley Registration\n\nThe Car Show Registration Fee is $25.
 00 per vehicle, there is no entrance fee for spectators\n\nThe 46th An
 nual Shelby Mustang & Ford Meet will be held at the Festival Grounds; 
 3374 Soco Rd; Maggie Valley, NC 28751 on Saturday, October 5, 2019 wit
 h Sunday, October 6, 2019 the rain date if needed.\n\nOn Saturday, Oct
 ober 5, 2019 the show hours are from 8:30 AM to 3:00 PM with registrat
 ion until noon. Early registration will be available on Friday, Octobe
 r 4, 2019 from 1:00 PM to 5:00 PM at the show site.\n\nAs in the past 
 this show will be a popular vote format with awards presentation at 3:
 00 PM. There will be over 25 classes available with top 3 awards in ea
 ch class plus the Jim Osborn Award; Best of Show Early Mustang and a B
 est of Show Late Mustang.\n All year's of Mustangs, Shelbys and Ford b
 odied and Ford powered vehicles are welcome.\n There will be show T-sh
 irts available for purchase, with last year’s Best of Show and Jim O
 sborn award winners centered on the back, plus there will be a 50/50 d
 rawing that will benefit Toys for Tots. Additionally there will be num
 erous door prizes available and awarded throughout the day. For any qu
 estions, please contact Steve Harrison at (404)427-2264 or email at st
 eve66shelby@gmail.com.\n\nOnce again we will arrange for food and drin
 k to be available at the site.\n For NE Georgia Mustang Club members a
 nd anyone else who would like to join us, we will once again cruise up
  on Friday, October4, 2019 by way of the Dillard House Restaurant. If 
 you are interested, we will leave from the QuikTrip at Oakwood, GA at 
 7:00 AM. The QuikTrip is located at exit 16 (Hwy 53) on Interstate 985
 . If you prefer, you can meet us at the Dillard house at 8:30AM. After
  breakfast we caravan on to Maggie Valley arriving somewhere around no
 on or so. We usually check out the show site taking care of vendors an
 d any early registrations that may arrive by 5:00 PM on Friday. There 
 are many good places to eat in Maggie Valley and the Club will usually
  eat dinner somewhere as a group or in groups at several locations.\n 
 Lodging is available at the host hotel the Comfort Inn. The Comfort In
 n is again offering rooms at the special per night rate of $129.00 + $
 10.00 additional per night for a king bed. To receive this special rat
 e you must contact the Comfort Inn directly at 828-926-9106 use the 
 NEGMC” code. You must make your reservation by July 31, 2019 or els
 e you will pay the regular per night rate which is currently $209.00 a
 nd subject to increase.\n Additional accommodations maybe available at
  Creekside Lodge, Comfort Inn, Best Western, and Microtel unless they 
 are full. If the Maggie Valley hotels are filled there are other hotel
 s in Waynesville, NC which is a few minutes north of the show site.\n 
 Like our Facebook Page to keep up with show updates. Our Facebook Page
  is: https://www.facebook.com/pages/Northeast-Georgia-Mustang-Club/192
 962149084\n\nFor more information visit https://www.southeastwheelseve
 nts.com/events/46th-annual-shelby-mustang-amp-ford-maggie-valley-car-s
 how
DTSTART;TZID=Pacific/Midway:20191005T083000
DTEND;TZID=Pacific/Midway:20191005T150000
CATEGORIES:car, show
LOCATION:Maggie Valley Festival Grounds
WEBSITE:https://www.google.com/maps/place/3374+Soco+Rd,+Maggie+Valley,
 +NC+28751/@35.5158889,-83.0864409,17z/data=!3m1!4b1!4m5!3m4!1s0x88596f
 dea8f1a387:0x9762e91842d3cce4!8m2!3d35.5158846!4d-83.0842522
URL:https://www.google.com/maps/place/3374+Soco+Rd,+Maggie+Valley,+NC+
 28751/@35.5158889,-83.0864409,17z/data=!3m1!4b1!4m5!3m4!1s0x88596fdea8
 f1a387:0x9762e91842d3cce4!8m2!3d35.5158846!4d-83.0842522
CONTACT:(770)441-3695
ORGANIZER;CN="Rick Schmidt":https://www.southeastwheelsevents.com/prof
 ile/RickSchmidt
ATTACH;FMTTYPE="image/jpeg":https://storage.ning.com/topology/rest/1.0
 /file/get/861177213?profile=original
ATTENDEE;ROLE=REQ-PARTICIPANT;PARTSTAT=ACCEPTED;RSVP=TRUE;CN="Rick Sch
 midt":https://www.southeastwheelsevents.com/profile/RickSchmidt
END:VEVENT
END:VCALENDAR
