BEGIN:VCALENDAR
PRODID:NingEventWidget-v1
VERSION:2.0
METHOD:PUBLISH
BEGIN:VTIMEZONE
TZID:Pacific/Midway
X-LIC-LOCATION:Pacific/Midway
BEGIN:STANDARD
TZOFFSETFROM:-1100
TZOFFSETTO:-1100
TZNAME:SST
DTSTART:19700101T000000
END:STANDARD
END:VTIMEZONE
BEGIN:VEVENT
UID:5072275:Event:1026542
DTSTAMP:20260420T164134Z
SUMMARY:46th Dirt Car Nationals - Day 5 of 12
DESCRIPTION:46th DIRTcar Nationals will be held at Volusia Speedway Pa
 rk, De Leon Springs, FL. UMP Modified Gator Qualifying 1. World of Out
 laws Craftsman Sprint Car Series. Pit gates open/team entry/transporte
 r parking at 10.00am. Pit pass sales begin at 1.00pm. Pit areas secure
 d / credentials & pit passes required at 3.00pm. Grandstand/Fan Zone/M
 idway secured at 4.40pm. Grandstand gates open at 5.00pm. Fan Pit Pass
  gate opens at 5.30pm. Hot Laps followed by Qualifying at 6.00pm. Open
 ing Ceremonies at 7.20pm. Racing starts at 7.30pm. End time may change
 . Schedule is tentative and subject to change\n\nFor more information 
 visit https://www.southeastwheelsevents.com/events/46th-dirt-car-natio
 nals-day-5-of-12
DTSTART;TZID=Pacific/Midway:20170218T100000
DTEND;TZID=Pacific/Midway:20170218T220000
CATEGORIES:cars, "customs/rods/mods", races
LOCATION:Volusia Speedway Park
WEBSITE:http://www.dirtcarnationals.com/schedule
URL:http://www.dirtcarnationals.com/schedule
CONTACT:
ORGANIZER:World of Outlaws
ATTACH;FMTTYPE="image/jpeg":http://storage.ning.com/topology/rest/1.0/
 file/get/967725886?profile=original
ATTENDEE;ROLE=REQ-PARTICIPANT;PARTSTAT=ACCEPTED;RSVP=TRUE;CN="Chris go
 sney":https://www.southeastwheelsevents.com/profile/Chrisgosney
END:VEVENT
END:VCALENDAR
