BEGIN:VCALENDAR
PRODID:NingEventWidget-v1
VERSION:2.0
METHOD:PUBLISH
BEGIN:VTIMEZONE
TZID:Pacific/Midway
X-LIC-LOCATION:Pacific/Midway
BEGIN:STANDARD
TZOFFSETFROM:-1100
TZOFFSETTO:-1100
TZNAME:SST
DTSTART:19700101T000000
END:STANDARD
END:VTIMEZONE
BEGIN:VEVENT
UID:5072275:Event:1183708
DTSTAMP:20260419T062006Z
SUMMARY:Annual World of Wheels - Birmingham, Al
DESCRIPTION:The World of Wheels is an indoor custom car show with 350 
 cars, trucks and bikes in competition for trophies and cash prizes. \
 r\nhild… FREE (ages 5 & under)Child… $5 (ages 6-11)Adult… $
 19 (at all O’Reilly Auto Parts stores)Adult… $22 + additional Ti
 cketmaster & BJCC fees (at the BJCC or TicketMaster)\r\n \r\n \r\n\
 r\nTickets purchased at O’Reilly Auto Parts or the BJCC can be used 
 on any show day. Tickets purchased from TicketMaster can be used on th
 e day for which they were purchased only.\r\nTickets are 1 time use, s
 ingle day passes. Exiting & reentering the show is not allowed.\r\nThe
 re is NOT an ATM at the BJCC so please bring cash from home if needed 
 (Some show vendors do not accept cards).\r\nThere is an outdoor “Smo
 ker’s Area”.\r\n\n\nFor more information visit https://www.southea
 stwheelsevents.com/events/49th-annual-birmingham-birmingham-al
DTSTART;TZID=Pacific/Midway:20250131T000000
DTEND;TZID=Pacific/Midway:20250202T235900
CATEGORIES:car, show, cruise-in
LOCATION:Birmingham-Jefferson Convention Complex,
WEBSITE:https://worldofwheels.net/birmingham/
URL:https://worldofwheels.net/birmingham/
CONTACT:(205) 655-4950
ORGANIZER:World of Wheels Show Office
ATTACH;FMTTYPE="image/jpeg":https://storage.ning.com/topology/rest/1.0
 /file/get/12322907454?profile=original
ATTENDEE;ROLE=REQ-PARTICIPANT;PARTSTAT=ACCEPTED;RSVP=TRUE;CN="Anthony 
 Hopkins":https://www.southeastwheelsevents.com/profile/AnthonyHopkins
END:VEVENT
END:VCALENDAR
