BEGIN:VCALENDAR
PRODID:NingEventWidget-v1
VERSION:2.0
METHOD:PUBLISH
BEGIN:VTIMEZONE
TZID:Pacific/Midway
X-LIC-LOCATION:Pacific/Midway
BEGIN:STANDARD
TZOFFSETFROM:-1100
TZOFFSETTO:-1100
TZNAME:SST
DTSTART:19700101T000000
END:STANDARD
END:VTIMEZONE
BEGIN:VEVENT
UID:5072275:Event:1053724
DTSTAMP:20260423T171330Z
SUMMARY:4th Annual Big Daddy's Car Show
DESCRIPTION:4th Annual Big Daddy's Car Show \n2691 Trenton Rd Clarks
 ville TN\n\nFor more information visit https://www.southeastwheelseven
 ts.com/events/4th-annual-big-daddy-s-car-show
DTSTART;TZID=Pacific/Midway:20170624T100000
DTEND;TZID=Pacific/Midway:20170624T140000
CATEGORIES:car, show
LOCATION:Daymar Institute
WEBSITE:
URL:
CONTACT:931-648-1000   931-206-1865
ORGANIZER:Terrie
ATTACH;FMTTYPE="image/jpeg":http://storage.ning.com/topology/rest/1.0/
 file/get/967747435?profile=original
ATTENDEE;ROLE=REQ-PARTICIPANT;PARTSTAT=ACCEPTED;RSVP=TRUE;CN="Lee Gosn
 ey":https://www.southeastwheelsevents.com/profile/LeeGosney
END:VEVENT
END:VCALENDAR
