BEGIN:VCALENDAR
PRODID:NingEventWidget-v1
VERSION:2.0
METHOD:PUBLISH
BEGIN:VTIMEZONE
TZID:Pacific/Midway
X-LIC-LOCATION:Pacific/Midway
BEGIN:STANDARD
TZOFFSETFROM:-1100
TZOFFSETTO:-1100
TZNAME:SST
DTSTART:19700101T000000
END:STANDARD
END:VTIMEZONE
BEGIN:VEVENT
UID:5072275:Event:964372
DTSTAMP:20260424T113414Z
SUMMARY:4th ANNUAL CAR SHOW 1st PRESBYTERIAN CHURCH TOCCOA GA
DESCRIPTION:Judged car and truck show. DJ Jeff will provide the tunes 
 , pancake breakfast and burgers &  hot dogs for lunch will be served
 . Baked goods and crafts for sale, Door prizes,50/50, Awards for top 1
 0 and best of each class. Proceeds to be donated to local missions\n\n
 \nFor more information visit https://www.southeastwheelsevents.com/eve
 nts/4th-annual-car-show-1st-presbyterian-church-toccoa-ga
DTSTART;TZID=Pacific/Midway:20160402T090000
DTEND;TZID=Pacific/Midway:20160402T150000
CATEGORIES:judged, car, and, truck, show
LOCATION:downtown Toccoa
WEBSITE:http://email itsdapluma@hotmail.com for info
URL:http://email itsdapluma@hotmail.com for info
CONTACT:631 374-5890 Larry or 706 886-3680 Church office
ORGANIZER;CN="larry shaw":https://www.southeastwheelsevents.com/profil
 e/larryshaw
ATTACH;FMTTYPE="image/jpeg":
ATTENDEE;ROLE=REQ-PARTICIPANT;PARTSTAT=ACCEPTED;RSVP=TRUE;CN="Herman L
 edbetter":https://www.southeastwheelsevents.com/profile/HermanLedbette
 r
ATTENDEE;ROLE=REQ-PARTICIPANT;PARTSTAT=ACCEPTED;RSVP=TRUE;CN="Rodney W
 allin":https://www.southeastwheelsevents.com/profile/Rodneywallin
ATTENDEE;ROLE=REQ-PARTICIPANT;PARTSTAT=ACCEPTED;RSVP=TRUE;CN="Jeffrey 
 Rutherford":https://www.southeastwheelsevents.com/profile/JeffreyRuthe
 rford866
ATTENDEE;ROLE=REQ-PARTICIPANT;PARTSTAT=ACCEPTED;RSVP=TRUE;CN="Jerry Jo
 nes":https://www.southeastwheelsevents.com/profile/JerryJOnes
ATTENDEE;ROLE=REQ-PARTICIPANT;PARTSTAT=ACCEPTED;RSVP=TRUE;CN="larry sh
 aw":https://www.southeastwheelsevents.com/profile/larryshaw
ATTENDEE;ROLE=REQ-PARTICIPANT;PARTSTAT=TENTATIVE;RSVP=TRUE;CN="Michael
  Thies":https://www.southeastwheelsevents.com/profile/MichaelThies
ATTENDEE;ROLE=REQ-PARTICIPANT;PARTSTAT=TENTATIVE;RSVP=TRUE;CN="Mike Da
 ly Sr":https://www.southeastwheelsevents.com/profile/MikeDalySr
END:VEVENT
END:VCALENDAR
