BEGIN:VCALENDAR
PRODID:NingEventWidget-v1
VERSION:2.0
METHOD:PUBLISH
BEGIN:VTIMEZONE
TZID:Pacific/Midway
X-LIC-LOCATION:Pacific/Midway
BEGIN:STANDARD
TZOFFSETFROM:-1100
TZOFFSETTO:-1100
TZNAME:SST
DTSTART:19700101T000000
END:STANDARD
END:VTIMEZONE
BEGIN:VEVENT
UID:5072275:Event:881836
DTSTAMP:20260421T103200Z
SUMMARY:4th Annual Car-Truck and Bike Show
DESCRIPTION:Sponsored by Jackson County APDD and Friends of Advantage 
 to benefit Jackson Creative.\n\nSaturday April 18,2015\nNoon to 4:00 p
 m.\nLanier Tech Parking Lot\nCommerce GA.\nAnything on Wheels Welcome.
 \n$10.00 Vehicle Entry\n\nFor more information visit https://www.south
 eastwheelsevents.com/events/4th-annual-car-truck-and-bike-show-1
DTSTART;TZID=Pacific/Midway:20150418T120000
DTEND;TZID=Pacific/Midway:20150418T160000
CATEGORIES:fund, raise, to, benefit, jackson, creative
LOCATION:Lanier Tech Parking Lot Commerce Ga.
WEBSITE:http://Google
URL:http://Google
CONTACT:706-335-5379 or 706-248-1367
ORGANIZER;CN="Diane Sears":https://www.southeastwheelsevents.com/profi
 le/DianeSears
ATTACH;FMTTYPE="image/jpeg":
ATTENDEE;ROLE=REQ-PARTICIPANT;PARTSTAT=ACCEPTED;RSVP=TRUE;CN="Diane Se
 ars":https://www.southeastwheelsevents.com/profile/DianeSears
END:VEVENT
END:VCALENDAR
