BEGIN:VCALENDAR
PRODID:NingEventWidget-v1
VERSION:2.0
METHOD:PUBLISH
BEGIN:VTIMEZONE
TZID:Pacific/Midway
X-LIC-LOCATION:Pacific/Midway
BEGIN:STANDARD
TZOFFSETFROM:-1100
TZOFFSETTO:-1100
TZNAME:SST
DTSTART:19700101T000000
END:STANDARD
END:VTIMEZONE
BEGIN:VEVENT
UID:5072275:Event:828319
DTSTAMP:20260423T145931Z
SUMMARY:4th Annual Cars for Canines and Fall Festival, Suwanee, GA
DESCRIPTION:Registration Underway for Annual Cars for Canines Event\nT
 he Canine Adoption Network has opened registration for its 4th Annual 
 Cars for Canines show. All makes, models and years of cars will be on 
 display. The event, hosted by Mercedes Benz Club of America, Peachtree
  Section, will be from 12 noon to 3 p.m., Saturday, Oct. 11, at Jubile
 e Shopping Center, 1500 Peachtree Industrial Blvd., Suwanee.\nTo regis
 ter a car, visit www.canineadoptionnetwork.org. Entry fee is $25 donat
 ion to Canine Adoption Network and will include lunch for two and an e
 vent t-shirt. A second entry is $15.\nDogs for adoption and mini-horse
 s from Save the Horses will be on hand, and the day will include raffl
 es and great food. Family Fun with Children’s Activities in conjunct
 ion with the Fall Festival at the Suwanee Jubilee Center!\nProceeds fr
 om the event will benefit Canine Adoption Network to help with ongoing
  expenses. The group is an all-volunteer animal welfare group, which c
 ares for its adoptable pets in foster homes while they await permanent
  placements. At present, it has over 60 dogs in its care. \nFamily F
 un, Children's Activities, Spectacular Car Show, Raffles, DJ. Visit wi
 th the available dogs for adoption and mini horses!\n\nFor more inform
 ation visit https://www.southeastwheelsevents.com/events/4th-annual-ca
 rs-for-canines-and-fall-festival-suwanee-ga
DTSTART;TZID=Pacific/Midway:20141011T120000
DTEND;TZID=Pacific/Midway:20141011T160000
CATEGORIES:fundraiser, car, show, family, fun, fall, festival
LOCATION:Suwanee Jubilee Center
WEBSITE:http://suwaneemagazine.com/suwanee-jubilee-shopping-center/
URL:http://suwaneemagazine.com/suwanee-jubilee-shopping-center/
CONTACT:770-722-1303
ORGANIZER;CN="Michele Williams":https://www.southeastwheelsevents.com/
 profile/MicheleWilliams
ATTACH;FMTTYPE="image/jpeg":http://storage.ning.com/topology/rest/1.0/
 file/get/967669608?profile=original
ATTENDEE;ROLE=REQ-PARTICIPANT;PARTSTAT=ACCEPTED;RSVP=TRUE;CN="Michele 
 Williams":https://www.southeastwheelsevents.com/profile/MicheleWilliam
 s
END:VEVENT
END:VCALENDAR
