BEGIN:VCALENDAR
PRODID:NingEventWidget-v1
VERSION:2.0
METHOD:PUBLISH
BEGIN:VTIMEZONE
TZID:Pacific/Midway
X-LIC-LOCATION:Pacific/Midway
BEGIN:STANDARD
TZOFFSETFROM:-1100
TZOFFSETTO:-1100
TZNAME:SST
DTSTART:19700101T000000
END:STANDARD
END:VTIMEZONE
BEGIN:VEVENT
UID:5072275:Event:836166
DTSTAMP:20260423T145835Z
SUMMARY:4th Annual Cars For Canines * Suwanee Fall Festival
DESCRIPTION:\n\nFor more information visit https://www.southeastwheels
 events.com/events/4th-annual-cars-for-canines-suwanee-fall-festival-1
DTSTART;TZID=Pacific/Midway:20141011T090000
DTEND;TZID=Pacific/Midway:20141011T160000
CATEGORIES:fundraiser
LOCATION:Suwanee Jubilee Festival
WEBSITE:http://www.canineadoptionnetwork.org
URL:http://www.canineadoptionnetwork.org
CONTACT:Maximillian Gutierrez - 404-545-0387
ORGANIZER;CN="Steve Bracken":https://www.southeastwheelsevents.com/pro
 file/SteveBracken
ATTACH;FMTTYPE="image/jpeg":
ATTENDEE;ROLE=REQ-PARTICIPANT;PARTSTAT=ACCEPTED;RSVP=TRUE;CN="Steve Br
 acken":https://www.southeastwheelsevents.com/profile/SteveBracken
END:VEVENT
END:VCALENDAR
