BEGIN:VCALENDAR
PRODID:NingEventWidget-v1
VERSION:2.0
METHOD:PUBLISH
BEGIN:VTIMEZONE
TZID:Pacific/Midway
X-LIC-LOCATION:Pacific/Midway
BEGIN:STANDARD
TZOFFSETFROM:-1100
TZOFFSETTO:-1100
TZNAME:SST
DTSTART:19700101T000000
END:STANDARD
END:VTIMEZONE
BEGIN:VEVENT
UID:5072275:Event:822722
DTSTAMP:20260423T145533Z
SUMMARY:4th Annual Cars for Canines, Suwanee GA
DESCRIPTION:4th Annual Cars for Canines hosted by the Mercedes Benz Cl
 ub of America, Peachtree Section, All Cars Welcome!  Register at www.
 canineadoptionnetwork.org web site.  Along with Suwanee Jubilee Fall 
 Festival, we will have cool giveaways, entertainment, raffles, great f
 ood, family fun, visit with mini horses from the horse rescue, and cou
 rse classic cars!! Everyone is welcome! Registered cars will be entere
 d in the judging for a great prize! We will have ballots set up at the
  main table so everyone who comes by can cast their vote for their fav
 orite car.  Join Us For the Fun Fall Festivities and Support Canine A
 doption Network, a Georgia nonprofit.\n\nFor more information visit ht
 tps://www.southeastwheelsevents.com/events/4th-annual-cars-for-canines
 -suwanee-ga
DTSTART;TZID=Pacific/Midway:20141011T100000
DTEND;TZID=Pacific/Midway:20141011T160000
CATEGORIES:spectacular, car, show, and, fall, festival
LOCATION:Suwanee Jubilee Center
WEBSITE:
URL:
CONTACT:770-722-1303
ORGANIZER;CN="Michele Williams":https://www.southeastwheelsevents.com/
 profile/MicheleWilliams
ATTACH;FMTTYPE="image/jpeg":http://storage.ning.com/topology/rest/1.0/
 file/get/967668029?profile=original
ATTENDEE;ROLE=REQ-PARTICIPANT;PARTSTAT=ACCEPTED;RSVP=TRUE;CN="Michele 
 Williams":https://www.southeastwheelsevents.com/profile/MicheleWilliam
 s
END:VEVENT
END:VCALENDAR
