BEGIN:VCALENDAR
PRODID:NingEventWidget-v1
VERSION:2.0
METHOD:PUBLISH
BEGIN:VTIMEZONE
TZID:Pacific/Midway
X-LIC-LOCATION:Pacific/Midway
BEGIN:STANDARD
TZOFFSETFROM:-1100
TZOFFSETTO:-1100
TZNAME:SST
DTSTART:19700101T000000
END:STANDARD
END:VTIMEZONE
BEGIN:VEVENT
UID:5072275:Event:881718
DTSTAMP:20260423T065422Z
SUMMARY:4th Annual Chevrolet Performance Nationals -Commerce, GA
DESCRIPTION:THE LARGEST ALL-GM POWERED EVENT OF THE YEAR\n$25.00 For 
 a one day pass\n$45.00 for a 2 Day pass (Saturday & Sunday)\nGates ope
 n @ 8:00 Saturday & Sunday\nFull Spectators Access to the Car Show,\n
 Drag Racing, Manufacturers Midway & Swap Meet\nFirst Race of the Chev
 rolet Performance Challenge Series\nAwesome Heads-up Bracket and True 
 Street Drag Racing\nHuge All - GM - Car Show with over 70 Awards for S
 aturday &  Sunday\nGiant Manufactures Midway & Used Parts at the Sw
 ap Meet\n\n\nFor more information visit https://www.southeastwheelseve
 nts.com/events/4th-annual-chevrolet-performance-nationals-1
DTSTART;TZID=Pacific/Midway:20150529T000000
DTEND;TZID=Pacific/Midway:20150531T235900
CATEGORIES:car, show, "/", drag, racing
LOCATION:Atlanta Dragway
WEBSITE:http://www.CPNATIONALS.COM
URL:http://www.CPNATIONALS.COM
CONTACT:949-784-9061
ORGANIZER:Dave Farley
ATTACH;FMTTYPE="image/jpeg":http://storage.ning.com/topology/rest/1.0/
 file/get/967680643?profile=original
ATTENDEE;ROLE=REQ-PARTICIPANT;PARTSTAT=ACCEPTED;RSVP=TRUE;CN="John Cur
 tis Smith":https://www.southeastwheelsevents.com/profile/JohnCurtisSmi
 th
ATTENDEE;ROLE=REQ-PARTICIPANT;PARTSTAT=ACCEPTED;RSVP=TRUE;CN="Michael 
 Thies":https://www.southeastwheelsevents.com/profile/MichaelThies
ATTENDEE;ROLE=REQ-PARTICIPANT;PARTSTAT=ACCEPTED;RSVP=TRUE;CN="Richard 
 Scott":https://www.southeastwheelsevents.com/profile/RichardScott
ATTENDEE;ROLE=REQ-PARTICIPANT;PARTSTAT=ACCEPTED;RSVP=TRUE;CN="Jerry Jo
 nes":https://www.southeastwheelsevents.com/profile/JerryJOnes
ATTENDEE;ROLE=REQ-PARTICIPANT;PARTSTAT=ACCEPTED;RSVP=TRUE;CN="Rachel F
 lowers":https://www.southeastwheelsevents.com/profile/RachelFlowers
ATTENDEE;ROLE=REQ-PARTICIPANT;PARTSTAT=ACCEPTED;RSVP=TRUE;CN="Rodney W
 allin":https://www.southeastwheelsevents.com/profile/Rodneywallin
ATTENDEE;ROLE=REQ-PARTICIPANT;PARTSTAT=TENTATIVE;RSVP=TRUE;CN="ROY RHY
 MER":https://www.southeastwheelsevents.com/profile/ROYRHYMER
ATTENDEE;ROLE=REQ-PARTICIPANT;PARTSTAT=TENTATIVE;RSVP=TRUE;CN="Mike Da
 ly Sr":https://www.southeastwheelsevents.com/profile/MikeDalySr
END:VEVENT
END:VCALENDAR
