BEGIN:VCALENDAR
PRODID:NingEventWidget-v1
VERSION:2.0
METHOD:PUBLISH
BEGIN:VTIMEZONE
TZID:Pacific/Midway
X-LIC-LOCATION:Pacific/Midway
BEGIN:STANDARD
TZOFFSETFROM:-1100
TZOFFSETTO:-1100
TZNAME:SST
DTSTART:19700101T000000
END:STANDARD
END:VTIMEZONE
BEGIN:VEVENT
UID:5072275:Event:1099655
DTSTAMP:20260419T111348Z
SUMMARY:Annual Rat Run on the Mountain - Crossville, TN
DESCRIPTION:6th Annual Rat Run on the Mountain at Cumberland County Fa
 irgrouds, 34 Music Road.\n\nFor more information visit https://www.sou
 theastwheelsevents.com/events/4th-annual-rat-run-on-the-mountain-cross
 ville-tn
DTSTART;TZID=Pacific/Midway:20220910T130000
DTEND;TZID=Pacific/Midway:20220910T180000
CATEGORIES:car, show, cruise, in
LOCATION:Cumberland County Fairgrouds,
WEBSITE:
URL:
CONTACT:(931) 200-5070
ORGANIZER:Becky
ATTACH;FMTTYPE="image/jpeg":http://storage.ning.com/topology/rest/1.0/
 file/get/967798312?profile=original
ATTENDEE;ROLE=REQ-PARTICIPANT;PARTSTAT=ACCEPTED;RSVP=TRUE;CN="Anthony 
 Hopkins":https://www.southeastwheelsevents.com/profile/AnthonyHopkins
END:VEVENT
END:VCALENDAR
