BEGIN:VCALENDAR
PRODID:NingEventWidget-v1
VERSION:2.0
METHOD:PUBLISH
BEGIN:VTIMEZONE
TZID:Pacific/Midway
X-LIC-LOCATION:Pacific/Midway
BEGIN:STANDARD
TZOFFSETFROM:-1100
TZOFFSETTO:-1100
TZNAME:SST
DTSTART:19700101T000000
END:STANDARD
END:VTIMEZONE
BEGIN:VEVENT
UID:5072275:Event:1049793
DTSTAMP:20260420T044908Z
SUMMARY:4th Annual Ride For Our Troops
DESCRIPTION:\n\nHighest and Lowest Hands win prizes, 50/50 raffle, doo
 r prizes and silent auction. $25 Rider - $10 Passenger, Non-Rider or E
 xtra Hand Helping Wounded Soldiers\n\n\n\n\n\nFor more information vis
 it https://www.southeastwheelsevents.com/events/4th-annual-ride-for-ou
 r-troops
DTSTART;TZID=Pacific/Midway:20170513T000000
DTEND;TZID=Pacific/Midway:20170513T235900
CATEGORIES:bikes, event, show
LOCATION:Chattahoochee Harley-Davidson
WEBSITE:http://xcgif.org/CalendarOfEvents.html
URL:http://xcgif.org/CalendarOfEvents.html
CONTACT:(706) 573-3203 - Tony
ORGANIZER:Randy Couture
ATTACH;FMTTYPE="image/jpeg":http://storage.ning.com/topology/rest/1.0/
 file/get/967744880?profile=original
ATTENDEE;ROLE=REQ-PARTICIPANT;PARTSTAT=ACCEPTED;RSVP=TRUE;CN="Christop
 her Gosney":https://www.southeastwheelsevents.com/profile/ChristopherG
 osney
END:VEVENT
END:VCALENDAR
