BEGIN:VCALENDAR
PRODID:NingEventWidget-v1
VERSION:2.0
METHOD:PUBLISH
BEGIN:VTIMEZONE
TZID:Pacific/Midway
X-LIC-LOCATION:Pacific/Midway
BEGIN:STANDARD
TZOFFSETFROM:-1100
TZOFFSETTO:-1100
TZNAME:SST
DTSTART:19700101T000000
END:STANDARD
END:VTIMEZONE
BEGIN:VEVENT
UID:5072275:Event:821264
DTSTAMP:20260419T054221Z
SUMMARY:4th Annual \"Saluting Our Veterans\" Open Car and Bike Show -A
 sheville, NC
DESCRIPTION:The Veterans Affairs Employees Association and Asheville C
 hevrolet present the 4th Annual \"Saluting Our Veterans\" Open Car and
  Bike Show November 1st, 2014, 10AM-2PM at the Charles George VA Medic
 al Center,1100 Tunnel Road in Asheville, NC. Our show provides funding
  for Recreational Therapy programs for our patients. Last year's show 
 hosted over 220 vehicles and raised over 5000 dollars. Registration is
  10.00 and a new, unwrapped toy for \"Toys for Tots\" per vehicle. The
 re will be awards for the \"Top Ten\" as chosen by registered particip
 ants, \"Best Represented Club\", and \"Sponsor's Choice\". Door prizes
 , raffles, 50/50 drawing. Food, music and fun for all! For more info c
 all Gary Oliver (828) 335-9134 \"Like\" us on FaceBook: www.facebook.c
 om/salutingourvetscarshow \n\nFor more information visit https://www.
 southeastwheelsevents.com/events/4th-annual-saluting-our-veterans-open
 -car-and-bike-show-1
DTSTART;TZID=Pacific/Midway:20141101T100000
DTEND;TZID=Pacific/Midway:20141101T140000
CATEGORIES:fundraiser
LOCATION:Charles George VA Medical Center
WEBSITE:https://www.google.com/maps/place/1100+Tunnel+Rd,+Asheville,+N
 C+28805/@35.5882019,-82.4840299,17z/data=!3m1!4b1!4m2!3m1!1s0x8859f3fa
 0e68d81b:0xb1cd15dc31132978
URL:https://www.google.com/maps/place/1100+Tunnel+Rd,+Asheville,+NC+28
 805/@35.5882019,-82.4840299,17z/data=!3m1!4b1!4m2!3m1!1s0x8859f3fa0e68
 d81b:0xb1cd15dc31132978
CONTACT:828 335-9134
ORGANIZER:Gary Oliver
ATTACH;FMTTYPE="image/jpeg":http://storage.ning.com/topology/rest/1.0/
 file/get/967667327?profile=original
ATTENDEE;ROLE=REQ-PARTICIPANT;PARTSTAT=ACCEPTED;RSVP=TRUE;CN="William 
 Oliver":https://www.southeastwheelsevents.com/profile/WilliamOliver
END:VEVENT
END:VCALENDAR
