BEGIN:VCALENDAR
PRODID:NingEventWidget-v1
VERSION:2.0
METHOD:PUBLISH
BEGIN:VTIMEZONE
TZID:Pacific/Midway
X-LIC-LOCATION:Pacific/Midway
BEGIN:STANDARD
TZOFFSETFROM:-1100
TZOFFSETTO:-1100
TZNAME:SST
DTSTART:19700101T000000
END:STANDARD
END:VTIMEZONE
BEGIN:VEVENT
UID:5072275:Event:1101134
DTSTAMP:20260422T182331Z
SUMMARY:4th Annual VFW Post 6605 Car, Truck and Bike Show - Warner Rob
 ins, Ga
DESCRIPTION: 4th Annual VFW Post 6605 Car, Truck and Bike Show, 1011 
 Corder Road.\n\nFor more information visit https://www.southeastwheels
 events.com/events/4th-annual-vfw-post-6605-car-truck-and-bike-show-war
 ner-robins-ga
DTSTART;TZID=Pacific/Midway:20181006T080000
DTEND;TZID=Pacific/Midway:20181006T150000
CATEGORIES:car, show, cruise, in
LOCATION:Veterans of Foreign Wars,
WEBSITE:https://www.google.co.in/maps/place/Veterans+of+Foreign+Wars/@
 32.6000132,-83.6585705,3a,75y,90t/data=!3m8!1e2!3m6!1sAF1QipOLbntzl57N
 BfALWPpQHpFV4FwQIz3Q2EgIBeXk!2e10!3e12!6shttps:%2F%2Flh5.googleusercon
 tent.com%2Fp%2FAF1QipOLbntzl57NBfALWPpQHpFV4FwQIz3Q2EgIBeXk%3Dw203-h33
 8-k-no!7i1536!8i2560!4m13!1m7!3m6!1s0x88f3e0deff0c7f75:0xb6eba8662da0e
 001!2s1011+Corder+Rd,+Warner+Robins,+GA+31088,+USA!3b1!8m2!3d32.600482
 !4d-83.658875!3m4!1s0x88f3e0deff6d13bd:0x4ad316770fdf778e!8m2!3d32.600
 482!4d-83.658875
URL:https://www.google.co.in/maps/place/Veterans+of+Foreign+Wars/@32.6
 000132,-83.6585705,3a,75y,90t/data=!3m8!1e2!3m6!1sAF1QipOLbntzl57NBfAL
 WPpQHpFV4FwQIz3Q2EgIBeXk!2e10!3e12!6shttps:%2F%2Flh5.googleusercontent
 .com%2Fp%2FAF1QipOLbntzl57NBfALWPpQHpFV4FwQIz3Q2EgIBeXk%3Dw203-h338-k-
 no!7i1536!8i2560!4m13!1m7!3m6!1s0x88f3e0deff0c7f75:0xb6eba8662da0e001!
 2s1011+Corder+Rd,+Warner+Robins,+GA+31088,+USA!3b1!8m2!3d32.600482!4d-
 83.658875!3m4!1s0x88f3e0deff6d13bd:0x4ad316770fdf778e!8m2!3d32.600482!
 4d-83.658875
CONTACT:(478) 923-3578
ORGANIZER:Larry Baker
ATTACH;FMTTYPE="image/jpeg":http://storage.ning.com/topology/rest/1.0/
 file/get/967798225?profile=original
ATTENDEE;ROLE=REQ-PARTICIPANT;PARTSTAT=ACCEPTED;RSVP=TRUE;CN="Anthony 
 Hopkins":https://www.southeastwheelsevents.com/profile/AnthonyHopkins
END:VEVENT
END:VCALENDAR
