BEGIN:VCALENDAR
PRODID:NingEventWidget-v1
VERSION:2.0
METHOD:PUBLISH
BEGIN:VTIMEZONE
TZID:Pacific/Midway
X-LIC-LOCATION:Pacific/Midway
BEGIN:STANDARD
TZOFFSETFROM:-1100
TZOFFSETTO:-1100
TZNAME:SST
DTSTART:19700101T000000
END:STANDARD
END:VTIMEZONE
BEGIN:VEVENT
UID:5072275:Event:1232462
DTSTAMP:20260420T160439Z
SUMMARY:4th Annual Wolfpack Classic Car Show
DESCRIPTION:It's our 4th Annual Wolfpack Classic Car Show benefiting t
 he North Paulding High School Football program. The NPHS Touch Down Cl
 ub's Mom's Club will be hosting this fun event to raise money for our 
 weekly nutrition program and pregame meals. Registration will begin at
  9am. Judging will begin at 1pm.\nContact Stephanie Lawler for registr
 ation details. (lawler_stephanie@comcast.net)\n$25 Registration (inclu
 des dash plaque) $35 Registration (includes dash plaque & t-shirt)\n\n
 For more information visit https://www.southeastwheelsevents.com/event
 s/4th-annual-wolfpack-classic-car-show
DTSTART;TZID=Pacific/Midway:20220312T100000
DTEND;TZID=Pacific/Midway:20220312T140000
CATEGORIES:fundraiser
LOCATION:Keystone Baptist Church
WEBSITE:
URL:
CONTACT:4708443063
ORGANIZER;CN="Stephanie Lawler":https://www.southeastwheelsevents.com/
 profile/StephanieLawler
ATTACH;FMTTYPE="image/jpeg":https://storage.ning.com/topology/rest/1.0
 /file/get/10096627297?profile=original
ATTENDEE;ROLE=REQ-PARTICIPANT;PARTSTAT=ACCEPTED;RSVP=TRUE;CN="Stephani
 e Lawler":https://www.southeastwheelsevents.com/profile/StephanieLawle
 r
END:VEVENT
END:VCALENDAR
