BEGIN:VCALENDAR
PRODID:NingEventWidget-v1
VERSION:2.0
METHOD:PUBLISH
BEGIN:VTIMEZONE
TZID:Pacific/Midway
X-LIC-LOCATION:Pacific/Midway
BEGIN:STANDARD
TZOFFSETFROM:-1100
TZOFFSETTO:-1100
TZNAME:SST
DTSTART:19700101T000000
END:STANDARD
END:VTIMEZONE
BEGIN:VEVENT
UID:5072275:Event:901421
DTSTAMP:20260419T011023Z
SUMMARY:4th Fridays in Historic Downtown Anniston
DESCRIPTION:Cruise-In, Live Music, Food Vendors, Late Shopping, Arts/C
 rafts, Kid Zone and Much More!\n\nFor more information visit https://w
 ww.southeastwheelsevents.com/events/4th-fridays-in-historic-downtown-a
 nniston
DTSTART;TZID=Pacific/Midway:20150626T170000
DTEND;TZID=Pacific/Midway:20150626T200000
CATEGORIES:community, event
LOCATION:Noble Street Downtown Anniston
WEBSITE:https://www.google.com/maps/place/1018+Noble+St,+Anniston,+AL+
 36201/@33.6578,-85.8301,17z/data=!3m1!4b1!4m2!3m1!1s0x888bb3eae7daebdf
 :0x21b29df2575d6f46
URL:https://www.google.com/maps/place/1018+Noble+St,+Anniston,+AL+3620
 1/@33.6578,-85.8301,17z/data=!3m1!4b1!4m2!3m1!1s0x888bb3eae7daebdf:0x2
 1b29df2575d6f46
CONTACT:256-236-0996
ORGANIZER;CN="Charity Duncan":https://www.southeastwheelsevents.com/pr
 ofile/CharityDuncan
ATTACH;FMTTYPE="image/jpeg":http://storage.ning.com/topology/rest/1.0/
 file/get/967692984?profile=original
ATTENDEE;ROLE=REQ-PARTICIPANT;PARTSTAT=ACCEPTED;RSVP=TRUE;CN="Charity 
 Duncan":https://www.southeastwheelsevents.com/profile/CharityDuncan
END:VEVENT
END:VCALENDAR
