BEGIN:VCALENDAR
PRODID:NingEventWidget-v1
VERSION:2.0
METHOD:PUBLISH
BEGIN:VTIMEZONE
TZID:Pacific/Midway
X-LIC-LOCATION:Pacific/Midway
BEGIN:STANDARD
TZOFFSETFROM:-1100
TZOFFSETTO:-1100
TZNAME:SST
DTSTART:19700101T000000
END:STANDARD
END:VTIMEZONE
BEGIN:VEVENT
UID:5072275:Event:1223369
DTSTAMP:20260425T000211Z
SUMMARY:4th SUNDAY CRUZE-IN @ DQ/     NOTE: Due to illness, in family 
 - this months show has been CANCELLED     WALMART MIDWAY - N ALPHARETT
 A, GA
DESCRIPTION:RDue to Illness, in family - this months show has been can
 celled - see y'all nxt month F/Book page: Cruz-In at DQ/Walmart-Midway
  2018 - 2021. \n\nFor more information visit https://www.southeastwhe
 elsevents.com/events/4th-sunday-cruze-in-dq-walmart-midway-n-alpharett
 a-ga-2
DTSTART;TZID=Pacific/Midway:20210523T150000
DTEND;TZID=Pacific/Midway:20210523T180000
CATEGORIES:cruise, in
LOCATION:DAIRY QUEEN
WEBSITE:
URL:
CONTACT:
ORGANIZER:CRUZE-IN AT WALMART MIDWAY
ATTACH;FMTTYPE="image/jpeg":https://storage.ning.com/topology/rest/1.0
 /file/get/8647477877?profile=original
ATTENDEE;ROLE=REQ-PARTICIPANT;PARTSTAT=ACCEPTED;RSVP=TRUE;CN="Patricia
  Chamlee":https://www.southeastwheelsevents.com/profile/PatriciaChamle
 e
ATTENDEE;ROLE=REQ-PARTICIPANT;PARTSTAT=TENTATIVE;RSVP=TRUE;CN="Jeffrey
  Rutherford":https://www.southeastwheelsevents.com/profile/JeffreyRuth
 erford866
END:VEVENT
END:VCALENDAR
