BEGIN:VCALENDAR
PRODID:NingEventWidget-v1
VERSION:2.0
METHOD:PUBLISH
BEGIN:VTIMEZONE
TZID:Pacific/Midway
X-LIC-LOCATION:Pacific/Midway
BEGIN:STANDARD
TZOFFSETFROM:-1100
TZOFFSETTO:-1100
TZNAME:SST
DTSTART:19700101T000000
END:STANDARD
END:VTIMEZONE
BEGIN:VEVENT
UID:5072275:Event:1059824
DTSTAMP:20260419T051757Z
SUMMARY:5 & Diner Cruise-in -Avalon Park, FL
DESCRIPTION:\nEvery Thursday from 5:30-8:00 - No Entry, Free, 5&Diner 
 is a Old Fashion 50's Diner. DJ Music by WLBY Cool Classic, Door Prize
 s,50/50 Draw, Gift Certificate to be Given out to a lucky participatin
 g Cruiser, All Makes and Models Welcome, Beer & Wine Specials, Old fas
 hion Shakes and Burgers, Breakfast. For further information call 407-7
 57-0978.\n\nFor more information visit https://www.southeastwheelseven
 ts.com/events/5-diner-cruise-in-avalon-park-fl-3
DTSTART;TZID=Pacific/Midway:20170817T180000
DTEND;TZID=Pacific/Midway:20170817T190000
CATEGORIES:cars, "clubs/shows/cruises"
LOCATION:5 & Diner
WEBSITE:
URL:
CONTACT:407-757-0978.
ORGANIZER:5 & Diner
ATTACH;FMTTYPE="image/jpeg":http://storage.ning.com/topology/rest/1.0/
 file/get/967730639?profile=original
ATTENDEE;ROLE=REQ-PARTICIPANT;PARTSTAT=ACCEPTED;RSVP=TRUE;CN="Chuck Aa
 ron":https://www.southeastwheelsevents.com/profile/ChuckAaron886
END:VEVENT
END:VCALENDAR
