BEGIN:VCALENDAR
PRODID:NingEventWidget-v1
VERSION:2.0
METHOD:PUBLISH
BEGIN:VTIMEZONE
TZID:Pacific/Midway
X-LIC-LOCATION:Pacific/Midway
BEGIN:STANDARD
TZOFFSETFROM:-1100
TZOFFSETTO:-1100
TZNAME:SST
DTSTART:19700101T000000
END:STANDARD
END:VTIMEZONE
BEGIN:VEVENT
UID:5072275:Event:1241612
DTSTAMP:20260420T052801Z
SUMMARY:Caffeine & Octane Karting Experience -Braselton, GA
DESCRIPTION:\r\n\r\nJoin us for the ultimate Karting Experience.  Loc
 ated across from Michelin Raceway Road outside Atlanta, Caffeine & Oc
 tane Lanier Raceway takes Karting to the next level.  Incorporating a
  banked oval & paved infield in a road-course track layout. The track 
 configuration is changed often providing an amazing variety of karting
  courses. The track length can be varied between 0.3 to 1.2 miles and 
 is typically around 1/2 mile. Track lights allow for night racing.\r\n
 *Unique course designs developed for 10 minute heat races\r\nWith hig
 hly responsive Dino karts, the C&O Karting Experience is perfect for f
 un nights out, corporate events, & private parties, & more.\r\nKARTING
  HOURS AVAILABLE AT CAFFEINEANDOCTANE.COM\r\nPRICING:  TUESDAY NIGHTS
  ONLY [$25 SINGLE RACES ALL NIGHT]\r\n\r\n\n\nFor more information vis
 it https://www.southeastwheelsevents.com/events/5072275:Event:1241612
DTSTART;TZID=Pacific/Midway:20230124T180000
DTEND;TZID=Pacific/Midway:20230124T220000
CATEGORIES:cruise-in, car-show
LOCATION:LANIER RACEPLEX
WEBSITE:http://www.caffeineandoctane.com/
URL:http://www.caffeineandoctane.com/
CONTACT:(770) 395-7900 / 770-883-0160
ORGANIZER:Caffeine and Octane
ATTACH;FMTTYPE="image/jpeg":http://storage.ning.com/topology/rest/1.0/
 file/get/967650402?profile=original
END:VEVENT
END:VCALENDAR
