BEGIN:VCALENDAR
PRODID:NingEventWidget-v1
VERSION:2.0
METHOD:PUBLISH
BEGIN:VTIMEZONE
TZID:Pacific/Midway
X-LIC-LOCATION:Pacific/Midway
BEGIN:STANDARD
TZOFFSETFROM:-1100
TZOFFSETTO:-1100
TZNAME:SST
DTSTART:19700101T000000
END:STANDARD
END:VTIMEZONE
BEGIN:VEVENT
UID:5072275:Event:1034711
DTSTAMP:20260423T024934Z
SUMMARY:52nd Eufaula Pilgrimage and Car Show -Eufaula, AL
DESCRIPTION:http://eufaulapilgrimage.com\n\nFor more information visit
  https://www.southeastwheelsevents.com/events/52nd-eufaula-pilgrimage-
 and-car-show
DTSTART;TZID=Pacific/Midway:20170401T000000
DTEND;TZID=Pacific/Midway:20170401T235900
CATEGORIES:car, show, and, historic, home, tours
LOCATION:Randolph at Church Street Eufaula, Alabama
WEBSITE:http://eufaulapilgrimage.com
URL:http://eufaulapilgrimage.com
CONTACT:630-303-4740
ORGANIZER;CN="Bruce Mathias":https://www.southeastwheelsevents.com/pro
 file/BruceMathias
ATTACH;FMTTYPE="image/jpeg":http://storage.ning.com/topology/rest/1.0/
 file/get/967740017?profile=original
ATTENDEE;ROLE=REQ-PARTICIPANT;PARTSTAT=ACCEPTED;RSVP=TRUE;CN="Bruce Ma
 thias":https://www.southeastwheelsevents.com/profile/BruceMathias
END:VEVENT
END:VCALENDAR
