BEGIN:VCALENDAR
PRODID:NingEventWidget-v1
VERSION:2.0
METHOD:PUBLISH
BEGIN:VTIMEZONE
TZID:Pacific/Midway
X-LIC-LOCATION:Pacific/Midway
BEGIN:STANDARD
TZOFFSETFROM:-1100
TZOFFSETTO:-1100
TZNAME:SST
DTSTART:19700101T000000
END:STANDARD
END:VTIMEZONE
BEGIN:VEVENT
UID:5072275:Event:475095
DTSTAMP:20260423T024231Z
SUMMARY:54th Kaiser-Frazer National Convention, Sweetwater, TN
DESCRIPTION:The 54th National KFOCI convention will be in Sweetwater, 
 TN.  Judging of all Kaiser-Frazer-Darrin-Willys vehicles will be at 9
  AM on 6/21/12.  Awards at 9 AM on 6/22/12.  Various meetings and to
 urs are available to those K-F owners who register (fees apply).  Loo
 k for Kaiser and Frazer vehicles around Sweetwater, TN.  Please stop 
 and take a look at these beautiful historic vehicles.  Looking is fre
 e!\n\nFor more information visit https://www.southeastwheelsevents.com
 /events/54th-kaiser-frazer-national-convention-sweetwater-tn
DTSTART;TZID=Pacific/Midway:20120617T190000
DTEND;TZID=Pacific/Midway:20120622T090000
CATEGORIES:convention
LOCATION:Magnuson Hotel and various locations around Sweetwater
WEBSITE:
URL:
CONTACT:423.745.4400
ORGANIZER:Rick Lay
ATTACH;FMTTYPE="image/jpeg":
ATTENDEE;ROLE=REQ-PARTICIPANT;PARTSTAT=ACCEPTED;RSVP=TRUE;CN="Frank Pu
 dysz":https://www.southeastwheelsevents.com/profile/FrankPudysz
END:VEVENT
END:VCALENDAR
