BEGIN:VCALENDAR
PRODID:NingEventWidget-v1
VERSION:2.0
METHOD:PUBLISH
BEGIN:VTIMEZONE
TZID:Pacific/Midway
X-LIC-LOCATION:Pacific/Midway
BEGIN:STANDARD
TZOFFSETFROM:-1100
TZOFFSETTO:-1100
TZNAME:SST
DTSTART:19700101T000000
END:STANDARD
END:VTIMEZONE
BEGIN:VEVENT
UID:5072275:Event:586925
DTSTAMP:20260419T041853Z
SUMMARY:57th Annual Florida Forest Festival Gaslight Parade Perry, Fl
DESCRIPTION:One of the highlights of the Florida Forest Festival is th
 e Gaslight Parade around the square in Downtown Perry on Friday Evenin
 g. FLoks line the streets to get their first view of your fabulous car
 s. Cars will line up at Holiday Inn Express, 601 Everett Way, Perry, F
 L phone 850-584-3200, just north of Forest Capital State Museum Park o
 ff Highway 19. Cars leave for the square at 6:45 and then park downtow
 n for the STReet Dance with Live Band Southern Rain.\n\nFor more infor
 mation visit https://www.southeastwheelsevents.com/events/57th-annual-
 florida-forest-festival-gaslight-parade
DTSTART;TZID=Pacific/Midway:20121026T184500
DTEND;TZID=Pacific/Midway:20121026T213000
CATEGORIES:gaslight, parade
LOCATION:Courthouse Square
WEBSITE:http://www.motorvationsfl.com
URL:http://www.motorvationsfl.com
CONTACT:850-838-1168
ORGANIZER;CN="Catherine Chute":https://www.southeastwheelsevents.com/p
 rofile/CatherineChute
ATTACH;FMTTYPE="image/jpeg":
ATTENDEE;ROLE=REQ-PARTICIPANT;PARTSTAT=ACCEPTED;RSVP=TRUE;CN="Catherin
 e Chute":https://www.southeastwheelsevents.com/profile/CatherineChute
END:VEVENT
END:VCALENDAR
