BEGIN:VCALENDAR
PRODID:NingEventWidget-v1
VERSION:2.0
METHOD:PUBLISH
BEGIN:VTIMEZONE
TZID:Pacific/Midway
X-LIC-LOCATION:Pacific/Midway
BEGIN:STANDARD
TZOFFSETFROM:-1100
TZOFFSETTO:-1100
TZNAME:SST
DTSTART:19700101T000000
END:STANDARD
END:VTIMEZONE
BEGIN:VEVENT
UID:5072275:Event:1179816
DTSTAMP:20260419T051727Z
SUMMARY:5th Annual Baylor Car Show - Chaattanooga, Tn
DESCRIPTION:5th Annual Baylor Car Show, 171 Baylor Car School Road.\n\
 nFor more information visit https://www.southeastwheelsevents.com/even
 ts/5th-annual-baylor-car-show-chaattanooga-tn
DTSTART;TZID=Pacific/Midway:20191109T090000
DTEND;TZID=Pacific/Midway:20191109T130000
CATEGORIES:car, show, cruise-in
LOCATION:Baylor Car School,
WEBSITE:
URL:
CONTACT:(423)320-4001
ORGANIZER:Keith Dempsey
ATTACH;FMTTYPE="image/jpeg":https://storage.ning.com/topology/rest/1.0
 /file/get/3700516566?profile=original
ATTENDEE;ROLE=REQ-PARTICIPANT;PARTSTAT=ACCEPTED;RSVP=TRUE;CN="Anthony 
 Hopkins":https://www.southeastwheelsevents.com/profile/AnthonyHopkins
END:VEVENT
END:VCALENDAR
