BEGIN:VCALENDAR
PRODID:NingEventWidget-v1
VERSION:2.0
METHOD:PUBLISH
BEGIN:VTIMEZONE
TZID:Pacific/Midway
X-LIC-LOCATION:Pacific/Midway
BEGIN:STANDARD
TZOFFSETFROM:-1100
TZOFFSETTO:-1100
TZNAME:SST
DTSTART:19700101T000000
END:STANDARD
END:VTIMEZONE
BEGIN:VEVENT
UID:5072275:Event:668311
DTSTAMP:20260419T075945Z
SUMMARY:Annual Charity Car & Bike Show -Huntsville, AL
DESCRIPTION:This year we are hosting our 6th Annual Charity Car and Bi
 ke Show .\r\nThis event will Start at 9:00 AM and end at 3:00 PM.\r\
 nRegistration will be 8:00AM - 12:00 Pm\r\nEntry Fee for the Car show 
 is $20\r\nJudges Categories:\r\n1. Vehicles 1962 & Earlier\r\n2. Gener
 al Categories for:\r\n-Chrysler\r\n-Ford\r\n-GM\r\n-Corvettes\r\n-Stre
 et Rods\r\n-Trucks\r\n-Import\r\n-Muscle Cars\r\n-Off Road Vehicles\r\
 n-Motorcycles\r\n-Show only\r\n \r\nThis car show is going to be a fa
 mily friendly event! Chances to win Money & Prizes along with Free Foo
 d and drinks will be available ! We are Going to have the Star Wars 50
 1st Legion as special guests, Face Painting, Castle Bounce and many mo
 re activities will be available for the family to enjoy!\r\n \r\n**FR
 EE ADMISSION TO THE PUBLIC**\r\n \r\n\r\n \r\n \n\nFor more informa
 tion visit https://www.southeastwheelsevents.com/events/5th-annual-cha
 rity-car-bike-show
DTSTART;TZID=Pacific/Midway:20240608T090000
DTEND;TZID=Pacific/Midway:20240608T150000
CATEGORIES:car, show
LOCATION:Landers McLarty Dodge Chrysler Jeep &amp; FIAT
WEBSITE:http://www.landersmclartydcjal.com/index.htm
URL:http://www.landersmclartydcjal.com/index.htm
CONTACT:256-830-640
ORGANIZER;CN="Landers McLarty DCJ Fiat":https://www.southeastwheelseve
 nts.com/profile/LandersMcLartyDCJFiat
ATTACH;FMTTYPE="image/jpeg":https://storage.ning.com/topology/rest/1.0
 /file/get/12637613457?profile=original
ATTENDEE;ROLE=REQ-PARTICIPANT;PARTSTAT=ACCEPTED;RSVP=TRUE;CN="Landers 
 McLarty DCJ Fiat":https://www.southeastwheelsevents.com/profile/Lander
 sMcLartyDCJFiat
END:VEVENT
END:VCALENDAR
