BEGIN:VCALENDAR
PRODID:NingEventWidget-v1
VERSION:2.0
METHOD:PUBLISH
BEGIN:VTIMEZONE
TZID:Pacific/Midway
X-LIC-LOCATION:Pacific/Midway
BEGIN:STANDARD
TZOFFSETFROM:-1100
TZOFFSETTO:-1100
TZNAME:SST
DTSTART:19700101T000000
END:STANDARD
END:VTIMEZONE
BEGIN:VEVENT
UID:5072275:Event:1100908
DTSTAMP:20260422T181235Z
SUMMARY:5th Annual CHRA Son Shine Car Show - Murfreesboro, Tn
DESCRIPTION:5th Annual CHRA Son Shine Car Show at New Vision Baptist C
 hurch, 1750 N Thompson Lane.\n\nFor more information visit https://www
 .southeastwheelsevents.com/events/5th-annual-chra-son-shine-car-show-m
 urfreesboro-tn
DTSTART;TZID=Pacific/Midway:20181006T090000
DTEND;TZID=Pacific/Midway:20181006T150000
CATEGORIES:car, show, cruise, in
LOCATION:New Vision Baptist Church,
WEBSITE:https://www.google.co.in/maps/place/New+Vision+Baptist+Church/
 @35.8707887,-86.4287626,17z/data=!3m1!4b1!4m5!3m4!1s0x88640805077cf253
 :0xfc003299e35a5b0f!8m2!3d35.8707887!4d-86.4265739
URL:https://www.google.co.in/maps/place/New+Vision+Baptist+Church/@35.
 8707887,-86.4287626,17z/data=!3m1!4b1!4m5!3m4!1s0x88640805077cf253:0xf
 c003299e35a5b0f!8m2!3d35.8707887!4d-86.4265739
CONTACT:(224) 339-0221 (RD 10/13)
ORGANIZER:Diana Chamberlain
ATTACH;FMTTYPE="image/jpeg":http://storage.ning.com/topology/rest/1.0/
 file/get/967798394?profile=original
ATTENDEE;ROLE=REQ-PARTICIPANT;PARTSTAT=ACCEPTED;RSVP=TRUE;CN="Anthony 
 Hopkins":https://www.southeastwheelsevents.com/profile/AnthonyHopkins
END:VEVENT
END:VCALENDAR
