BEGIN:VCALENDAR
PRODID:NingEventWidget-v1
VERSION:2.0
METHOD:PUBLISH
BEGIN:VTIMEZONE
TZID:Pacific/Midway
X-LIC-LOCATION:Pacific/Midway
BEGIN:STANDARD
TZOFFSETFROM:-1100
TZOFFSETTO:-1100
TZNAME:SST
DTSTART:19700101T000000
END:STANDARD
END:VTIMEZONE
BEGIN:VEVENT
UID:5072275:Event:1109946
DTSTAMP:20260421T035103Z
SUMMARY:5th Annual Coastal Center Car Show - Summerville, Sc
DESCRIPTION:5th Annual Coastal Center Car Show, 9995 Jamison Road\n\nF
 or more information visit https://www.southeastwheelsevents.com/events
 /5th-annual-coastal-center-car-show-summerville-sc
DTSTART;TZID=Pacific/Midway:20181027T100000
DTEND;TZID=Pacific/Midway:20181027T143000
CATEGORIES:car, show, cruise, in
LOCATION:Summerville, Sc
WEBSITE:https://www.charlestoncarshows.com/locations/coastal-center-2/
URL:https://www.charlestoncarshows.com/locations/coastal-center-2/
CONTACT:(843) 873-5750
ORGANIZER:Richard Johnson
ATTACH;FMTTYPE="image/jpeg":http://storage.ning.com/topology/rest/1.0/
 file/get/967803088?profile=original
ATTENDEE;ROLE=REQ-PARTICIPANT;PARTSTAT=ACCEPTED;RSVP=TRUE;CN="Anthony 
 Hopkins":https://www.southeastwheelsevents.com/profile/AnthonyHopkins
END:VEVENT
END:VCALENDAR
