BEGIN:VCALENDAR
PRODID:NingEventWidget-v1
VERSION:2.0
METHOD:PUBLISH
BEGIN:VTIMEZONE
TZID:Pacific/Midway
X-LIC-LOCATION:Pacific/Midway
BEGIN:STANDARD
TZOFFSETFROM:-1100
TZOFFSETTO:-1100
TZNAME:SST
DTSTART:19700101T000000
END:STANDARD
END:VTIMEZONE
BEGIN:VEVENT
UID:5072275:Event:729766
DTSTAMP:20260421T184523Z
SUMMARY:5th Annual Daryl Shook Memorial Car Show -Gainesville, GA
DESCRIPTION:The 5th Annual Daryl Shook Memorial Car & Bike Show will b
 e held at New Haven Church in Gainesville, GA. The event was created t
 o celebrate Daryl's love for cars and to help the church's Student Min
 istries raise funds for activities and community projects. \n Registr
 ation is set to begin at 10:00 AM with the awards ceremony at 2:00 PM.
  All types of vehicles are welcome, so please come show your support. 
 Awards include: Top 25 People's Choice, Pastor's Choice, & Youth Pasto
 r's Choice awards.   There will be plenty of parking, so bring your f
 amily and friends for some good clean fun. We will have special events
  going on all day long, including a cake walk, soup bean supper, and m
 uch more! Check the site weekly for updates on events, sponsors, and v
 endors. We Hope To See You There! This Event is brought to you by New 
 Haven Church & Awaken Student Ministries. \n\nFor more information vi
 sit https://www.southeastwheelsevents.com/events/5th-annual-daryl-shoo
 k-memorial-car-show
DTSTART;TZID=Pacific/Midway:20140510T100000
DTEND;TZID=Pacific/Midway:20140510T140000
CATEGORIES:car, truck, bike, tractor, show
LOCATION:New Haven Church
WEBSITE:
URL:
CONTACT:706-968-8192
ORGANIZER:Jerry Shook
ATTACH;FMTTYPE="image/jpeg":http://storage.ning.com/topology/rest/1.0/
 file/get/967652675?profile=original
ATTENDEE;ROLE=REQ-PARTICIPANT;PARTSTAT=ACCEPTED;RSVP=TRUE;CN="Chuck Aa
 ron":https://www.southeastwheelsevents.com/profile/ChuckAaron
ATTENDEE;ROLE=REQ-PARTICIPANT;PARTSTAT=ACCEPTED;RSVP=TRUE;CN="jason sh
 ook":https://www.southeastwheelsevents.com/profile/jasonshook769
END:VEVENT
END:VCALENDAR
