BEGIN:VCALENDAR
PRODID:NingEventWidget-v1
VERSION:2.0
METHOD:PUBLISH
BEGIN:VTIMEZONE
TZID:Pacific/Midway
X-LIC-LOCATION:Pacific/Midway
BEGIN:STANDARD
TZOFFSETFROM:-1100
TZOFFSETTO:-1100
TZNAME:SST
DTSTART:19700101T000000
END:STANDARD
END:VTIMEZONE
BEGIN:VEVENT
UID:5072275:Event:1066348
DTSTAMP:20260419T052225Z
SUMMARY:5th Annual Fall Fest - North Ocala Swap Meet Citra, Fl
DESCRIPTION:Auto & Bike Swap Meet & Car Show. Oldies music,\ndoor p
 rize drawings, 50/50, trophies. Bike & Auto Sale Corral\nfree w/ $2
 . admission.Show registration 9-11A.\n$20 per car. All show proce
 eds go to North Marion High School.\nLargest participating car club
  gets big trophy and $50.\n352 591-2377 2035 NW 146th Pl Citra.  \n
  \n\nFor more information visit https://www.southeastwheelsevents.com
 /events/5th-annual-fall-fest-north-ocala-swap-meet-citra-fl
DTSTART;TZID=Pacific/Midway:20171008T063000
DTEND;TZID=Pacific/Midway:20171008T150000
CATEGORIES:bike, "&amp", auto, swap, meet, and, car, show
LOCATION:Motocross of Marion County, Reddick, Fl
WEBSITE:http://www.northocalaswapmeet.com
URL:http://www.northocalaswapmeet.com
CONTACT:3525912377
ORGANIZER:Ken &amp; Carol Blackburn
ATTACH;FMTTYPE="image/jpeg":
ATTENDEE;ROLE=REQ-PARTICIPANT;PARTSTAT=ACCEPTED;RSVP=TRUE;CN="Carol Bl
 ackburn":https://www.southeastwheelsevents.com/profile/CarolBlackburn
END:VEVENT
END:VCALENDAR
