BEGIN:VCALENDAR
PRODID:NingEventWidget-v1
VERSION:2.0
METHOD:PUBLISH
BEGIN:VTIMEZONE
TZID:Pacific/Midway
X-LIC-LOCATION:Pacific/Midway
BEGIN:STANDARD
TZOFFSETFROM:-1100
TZOFFSETTO:-1100
TZNAME:SST
DTSTART:19700101T000000
END:STANDARD
END:VTIMEZONE
BEGIN:VEVENT
UID:5072275:Event:1103325
DTSTAMP:20260421T034948Z
SUMMARY:5th Annual Halloween \"Spook-tacular\" Car Show - Marion, Nc
DESCRIPTION:5th Annual Halloween \"Spook-tacular\" Car Show on South M
 ain Street,\n\nFor more information visit https://www.southeastwheelse
 vents.com/events/5th-annual-halloween-spook-tacular-car-show-marion-nc
DTSTART;TZID=Pacific/Midway:20181027T100000
DTEND;TZID=Pacific/Midway:20181027T140000
CATEGORIES:car, show, cruise, in
LOCATION:Marion, Nc
WEBSITE:https://www.google.co.in/maps/place/S+Main+St,+Marion,+NC+2875
 2,+USA/@35.6806452,-82.0105459,16.72z/data=!4m5!3m4!1s0x8850b2e55d5731
 0d:0xfdd4917b38be2b57!8m2!3d35.6810463!4d-82.0073326
URL:https://www.google.co.in/maps/place/S+Main+St,+Marion,+NC+28752,+U
 SA/@35.6806452,-82.0105459,16.72z/data=!4m5!3m4!1s0x8850b2e55d57310d:0
 xfdd4917b38be2b57!8m2!3d35.6810463!4d-82.0073326
CONTACT:(828) 652-9159
ORGANIZER:
ATTACH;FMTTYPE="image/jpeg":http://storage.ning.com/topology/rest/1.0/
 file/get/967796313?profile=original
ATTENDEE;ROLE=REQ-PARTICIPANT;PARTSTAT=ACCEPTED;RSVP=TRUE;CN="Anthony 
 Hopkins":https://www.southeastwheelsevents.com/profile/AnthonyHopkins
END:VEVENT
END:VCALENDAR
